Back to Build/check report for BioC 3.19 experimental data
ABCDE[F]GHIJKLMNOPQRSTUVWXYZ

This page was generated on 2024-06-20 14:51 -0400 (Thu, 20 Jun 2024).

HostnameOSArch (*)R versionInstalled pkgs
nebbiolo1Linux (Ubuntu 22.04.3 LTS)x86_644.4.0 (2024-04-24) -- "Puppy Cup" 4758
Click on any hostname to see more info about the system (e.g. compilers)      (*) as reported by 'uname -p', except on Windows and Mac OS X

Package 128/430HostnameOS / ArchINSTALLBUILDCHECK
Fletcher2013b 1.40.0  (landing page)
Mauro Castro
Snapshot Date: 2024-06-20 07:30 -0400 (Thu, 20 Jun 2024)
git_url: https://git.bioconductor.org/packages/Fletcher2013b
git_branch: RELEASE_3_19
git_last_commit: 515baa9
git_last_commit_date: 2024-04-30 10:39:58 -0400 (Tue, 30 Apr 2024)
nebbiolo1Linux (Ubuntu 22.04.3 LTS) / x86_64  OK    OK    WARNINGS  UNNEEDED, same version is already published


BUILD results for Fletcher2013b on nebbiolo1

To the developers/maintainers of the Fletcher2013b package:
- Use the following Renviron settings to reproduce errors and warnings.
- If 'R CMD check' started to fail recently on the Linux builder(s) over a missing dependency, add the missing dependency to 'Suggests:' in your DESCRIPTION file. See Renviron.bioc for more information.

raw results


Summary

Package: Fletcher2013b
Version: 1.40.0
Command: /home/biocbuild/bbs-3.19-bioc/R/bin/R CMD build --keep-empty-dirs --no-resave-data Fletcher2013b
StartedAt: 2024-06-20 10:26:01 -0400 (Thu, 20 Jun 2024)
EndedAt: 2024-06-20 10:26:47 -0400 (Thu, 20 Jun 2024)
EllapsedTime: 46.7 seconds
RetCode: 0
Status:   OK  
PackageFile: Fletcher2013b_1.40.0.tar.gz
PackageFileSize: 263.3 MiB

Command output

##############################################################################
##############################################################################
###
### Running command:
###
###   /home/biocbuild/bbs-3.19-bioc/R/bin/R CMD build --keep-empty-dirs --no-resave-data Fletcher2013b
###
##############################################################################
##############################################################################


* checking for file ‘Fletcher2013b/DESCRIPTION’ ... OK
* preparing ‘Fletcher2013b’:
* checking DESCRIPTION meta-information ... OK
* installing the package to build vignettes
* creating vignettes ... OK
* checking for LF line-endings in source and make files and shell scripts
* checking for empty or unneeded directories
* looking to see if a ‘data/datalist’ file should be added
* building ‘Fletcher2013b_1.40.0.tar.gz’