Back to Build/check report for BioC 3.19 experimental data
ABCDE[F]GHIJKLMNOPQRSTUVWXYZ

This page was generated on 2024-05-21 14:51:33 -0400 (Tue, 21 May 2024).

HostnameOSArch (*)R versionInstalled pkgs
nebbiolo1Linux (Ubuntu 22.04.3 LTS)x86_644.4.0 (2024-04-24) -- "Puppy Cup" 4751
Click on any hostname to see more info about the system (e.g. compilers)      (*) as reported by 'uname -p', except on Windows and Mac OS X

All results for package Fletcher2013b


To the developers/maintainers of the Fletcher2013b package:
- Use the following Renviron settings to reproduce errors and warnings.
- If 'R CMD check' started to fail recently on the Linux builder(s) over a missing dependency, add the missing dependency to 'Suggests:' in your DESCRIPTION file. See Renviron.bioc for more information.

raw results

Package 128/430HostnameOS / ArchINSTALLBUILDCHECK
Fletcher2013b 1.40.0  (landing page)
Mauro Castro
Snapshot Date: 2024-05-21 07:30:02 -0400 (Tue, 21 May 2024)
git_url: https://git.bioconductor.org/packages/Fletcher2013b
git_branch: RELEASE_3_19
git_last_commit: 515baa9
git_last_commit_date: 2024-04-30 10:39:58 -0400 (Tue, 30 Apr 2024)
nebbiolo1Linux (Ubuntu 22.04.3 LTS) / x86_64  OK    OK    WARNINGS  UNNEEDED, same version is already published