Back to Build/check report for BioC 3.19 experimental data
ABC[D]EFGHIJKLMNOPQRSTUVWXYZ

This page was generated on 2024-06-20 14:51 -0400 (Thu, 20 Jun 2024).

HostnameOSArch (*)R versionInstalled pkgs
nebbiolo1Linux (Ubuntu 22.04.3 LTS)x86_644.4.0 (2024-04-24) -- "Puppy Cup" 4758
Click on any hostname to see more info about the system (e.g. compilers)      (*) as reported by 'uname -p', except on Windows and Mac OS X

Package 88/430HostnameOS / ArchINSTALLBUILDCHECK
DAPARdata 1.34.0  (landing page)
Samuel Wieczorek
Snapshot Date: 2024-06-20 07:30 -0400 (Thu, 20 Jun 2024)
git_url: https://git.bioconductor.org/packages/DAPARdata
git_branch: RELEASE_3_19
git_last_commit: a10748a
git_last_commit_date: 2024-05-14 02:05:21 -0400 (Tue, 14 May 2024)
nebbiolo1Linux (Ubuntu 22.04.3 LTS) / x86_64  OK    OK    OK  UNNEEDED, same version is already published


BUILD results for DAPARdata on nebbiolo1

To the developers/maintainers of the DAPARdata package:
- Use the following Renviron settings to reproduce errors and warnings.
- If 'R CMD check' started to fail recently on the Linux builder(s) over a missing dependency, add the missing dependency to 'Suggests:' in your DESCRIPTION file. See Renviron.bioc for more information.

raw results


Summary

Package: DAPARdata
Version: 1.34.0
Command: /home/biocbuild/bbs-3.19-bioc/R/bin/R CMD build --keep-empty-dirs --no-resave-data DAPARdata
StartedAt: 2024-06-20 10:20:24 -0400 (Thu, 20 Jun 2024)
EndedAt: 2024-06-20 10:21:03 -0400 (Thu, 20 Jun 2024)
EllapsedTime: 39.3 seconds
RetCode: 0
Status:   OK  
PackageFile: DAPARdata_1.34.0.tar.gz
PackageFileSize: 29.04 MiB

Command output

##############################################################################
##############################################################################
###
### Running command:
###
###   /home/biocbuild/bbs-3.19-bioc/R/bin/R CMD build --keep-empty-dirs --no-resave-data DAPARdata
###
##############################################################################
##############################################################################


* checking for file ‘DAPARdata/DESCRIPTION’ ... OK
* preparing ‘DAPARdata’:
* checking DESCRIPTION meta-information ... OK
* installing the package to build vignettes
* creating vignettes ... OK
* checking for LF line-endings in source and make files and shell scripts
* checking for empty or unneeded directories
* looking to see if a ‘data/datalist’ file should be added
* building ‘DAPARdata_1.34.0.tar.gz’