Build/check report for BioC 3.19 experimental data

This page was generated on 2024-05-16 14:51:32 -0400 (Thu, 16 May 2024).

Approx. Package Snapshot Date (git pull): 2024-05-16 07:30:03 -0400 (Thu, 16 May 2024)

HostnameOSArch (*)R versionInstalled pkgs
nebbiolo1Linux (Ubuntu 22.04.3 LTS)x86_644.4.0 (2024-04-24) -- "Puppy Cup" 4751
Click on any hostname to see more info about the system (e.g. compilers)      (*) as reported by 'uname -p', except on Windows and Mac OS X

Package status is indicated by one of the following glyphs
  TIMEOUT  
INSTALL, BUILD or CHECK of package took more than 40, 80 or 80 minutes, respectively
  ERROR  
Bad DESCRIPTION file, or INSTALL or BUILD of package failed, or CHECK produced errors
  WARNINGS  
CHECK of package produced warnings
  OK  
INSTALL, BUILD or CHECK of package went OK
  NA  
INSTALL, BUILD or CHECK result is not available because of an anomaly in the Build System
skipped
CHECK of package was skipped because the BUILD step failed
Click on any glyph in the report below to access the detailed report.
Package propagation status is indicated by one of the following LEDs
YES YES: Package was propagated because it didn't previously exist or version was bumped
NO NO: Package was not propagated because of a problem (impossible dependencies, or version lower than what is already propagated)
UNNEEDED UNNEEDED: Package was not propagated because it is already in the repository with this version. A version bump is required in order to propagate it

A crossed-out package name indicates the package is deprecated


QUICK STATSOS / ArchINSTALLBUILDCHECK
nebbiolo1Linux (Ubuntu 22.04.3 LTS) / x86_64
00430
01429
08126295
A
ABCDEFGHIJKLMNOPQRSTUVWXYZ
PackageMaintainerINSTALLBUILDCHECK
1/430adductData 1.20.0  (landing page)Josie Hayes  OK    OK    OK  UNNEEDED, same version is already published
2/430affycompData 1.42.0  (landing page)Robert D Shear  OK    OK    OK  UNNEEDED, same version is already published
3/430affydata 1.52.0  (landing page)Robert D Shear  OK    OK    WARNINGS  UNNEEDED, same version is already published
4/430Affyhgu133A2Expr 1.40.0  (landing page)Zhicheng Ji  OK    OK    OK  UNNEEDED, same version is already published
5/430Affyhgu133aExpr 1.42.0  (landing page)Zhicheng Ji  OK    OK    OK  UNNEEDED, same version is already published
6/430Affyhgu133Plus2Expr 1.38.0  (landing page)Zhicheng Ji  OK    OK    OK  UNNEEDED, same version is already published
7/430AffymetrixDataTestFiles 0.42.0  (landing page)Henrik Bengtsson  OK    OK    OK  UNNEEDED, same version is already published
8/430Affymoe4302Expr 1.42.0  (landing page)Zhicheng Ji  OK    OK    OK  UNNEEDED, same version is already published
9/430airway 1.24.0  (landing page)Michael Love  OK    OK    WARNINGS  UNNEEDED, same version is already published
10/430ALL 1.46.0  (landing page)Robert Gentleman  OK    OK    OK  UNNEEDED, same version is already published
11/430ALLMLL 1.44.0  (landing page)B. M. Bolstad  OK    OK    OK  UNNEEDED, same version is already published
12/430AmpAffyExample 1.44.0  (landing page)Robert D Shear  OK    OK    WARNINGS  UNNEEDED, same version is already published
13/430AneuFinderData 1.32.0  (landing page)Aaron Taudt  OK    OK    WARNINGS  UNNEEDED, same version is already published
14/430antiProfilesData 1.40.0  (landing page)Hector Corrada Bravo  OK    OK    OK  UNNEEDED, same version is already published
15/430aracne.networks 1.30.0  (landing page)Federico M. Giorgi , Mariano Alvarez  OK    OK    WARNINGS  UNNEEDED, same version is already published
16/430ARRmData 1.40.0  (landing page)Jean-Philippe Fortin  OK    OK    OK  UNNEEDED, same version is already published
17/430AshkenazimSonChr21 1.34.0  (landing page)Who to complain to  OK    OK    OK  UNNEEDED, same version is already published
18/430ASICSdata 1.24.0  (landing page)Gaëlle Lefort  OK    OK    OK  UNNEEDED, same version is already published
19/430AssessORFData 1.22.0  (landing page)Deepank Korandla  OK    OK    ERROR  
B
ABCDEFGHIJKLMNOPQRSTUVWXYZ
PackageMaintainerINSTALLBUILDCHECK
20/430bcellViper 1.40.0  (landing page)Mariano Javier Alvarez  OK    OK    OK  UNNEEDED, same version is already published
21/430beadarrayExampleData 1.42.0  (landing page)Mark Dunning  OK    OK    OK  UNNEEDED, same version is already published
22/430BeadArrayUseCases 1.42.0  (landing page)Mike Smith  OK    OK    OK  UNNEEDED, same version is already published
23/430BeadSorted.Saliva.EPIC 1.12.0  (landing page)Jonah Fisher  OK    OK    OK  UNNEEDED, same version is already published
24/430benchmarkfdrData2019 1.18.0  (landing page)Stephanie Hicks  OK    OK    OK  UNNEEDED, same version is already published
25/430beta7 1.42.0  (landing page)Jean Yang  OK    OK    WARNINGS  UNNEEDED, same version is already published
26/430BioImageDbs 1.12.0  (landing page)Satoshi Kume  OK    OK    OK  UNNEEDED, same version is already published
27/430BioPlex 1.10.0  (landing page)Ludwig Geistlinger  OK    OK    OK  UNNEEDED, same version is already published
28/430biotmleData 1.28.0  (landing page)Nima Hejazi  OK    OK    WARNINGS  UNNEEDED, same version is already published
29/430biscuiteerData 1.18.0  (landing page)"Jacob Morrison"  OK    OK    OK  UNNEEDED, same version is already published
30/430bladderbatch 1.42.0  (landing page)Jeffrey T. Leek  OK    OK    WARNINGS  UNNEEDED, same version is already published
31/430blimaTestingData 1.24.0  (landing page)Vojtech Kulvait  OK    OK    OK  UNNEEDED, same version is already published
32/430BloodCancerMultiOmics2017 1.24.0  (landing page)Malgorzata Oles  OK    OK    WARNINGS  UNNEEDED, same version is already published
33/430bodymapRat 1.20.0  (landing page)Stephanie Hicks  OK    OK    OK  UNNEEDED, same version is already published
34/430breakpointRdata 1.22.0  (landing page)David Porubsky  OK    OK    OK  UNNEEDED, same version is already published
35/430breastCancerMAINZ 1.42.0  (landing page)Markus Schroeder , Benjamin Haibe-Kains  OK    OK    WARNINGS  UNNEEDED, same version is already published
36/430breastCancerNKI 1.42.0  (landing page)Markus Schroeder , Benjamin Haibe-Kains  OK    OK    WARNINGS  UNNEEDED, same version is already published
37/430breastCancerTRANSBIG 1.42.0  (landing page)Markus Schroeder , Benjamin Haibe-Kains  OK    OK    WARNINGS  UNNEEDED, same version is already published
38/430breastCancerUNT 1.42.0  (landing page)Markus Schroeder , Benjamin Haibe-Kains  OK    OK    WARNINGS  UNNEEDED, same version is already published
39/430breastCancerUPP 1.42.0  (landing page)Markus Schroeder , Benjamin Haibe-Kains  OK    OK    WARNINGS  UNNEEDED, same version is already published
40/430breastCancerVDX 1.42.0  (landing page)Markus Schroeder , Benjamin Haibe-Kains  OK    OK    WARNINGS  UNNEEDED, same version is already published
41/430brgedata 1.26.0  (landing page)Dolors Pelegri-Siso  OK    OK    WARNINGS  UNNEEDED, same version is already published
42/430bronchialIL13 1.42.0  (landing page)Vince Carey  OK    OK    OK  UNNEEDED, same version is already published
43/430bsseqData 0.42.0  (landing page)Kasper Daniel Hansen  OK    OK    WARNINGS  UNNEEDED, same version is already published
C
ABCDEFGHIJKLMNOPQRSTUVWXYZ
PackageMaintainerINSTALLBUILDCHECK
44/430cancerdata 1.42.0  (landing page)Daniel Kosztyla  OK    OK    OK  UNNEEDED, same version is already published
45/430CardinalWorkflows 1.36.0  (landing page)Kylie A. Bemis  OK    OK    OK  UNNEEDED, same version is already published
46/430ccdata 1.30.0  (landing page)Alex Pickering  OK    OK    WARNINGS  UNNEEDED, same version is already published
47/430CCl4 1.42.0  (landing page)Audrey Kauffmann  OK    OK    WARNINGS  UNNEEDED, same version is already published
48/430celarefData 1.22.0  (landing page)Sarah Williams  OK    OK    OK  UNNEEDED, same version is already published
49/430celldex 1.14.0  (landing page)Aaron Lun  OK    OK    OK  UNNEEDED, same version is already published
50/430CellMapperData 1.30.0  (landing page)Brad Nelms  OK    OK    OK  UNNEEDED, same version is already published
51/430cfToolsData 1.2.0  (landing page)Ran Hu  OK    OK    OK  UNNEEDED, same version is already published
52/430ChAMPdata 2.36.0  (landing page)Yuan Tian  OK    OK    WARNINGS  UNNEEDED, same version is already published
53/430ChimpHumanBrainData 1.42.0  (landing page)Sean Davis  OK    OK    OK  UNNEEDED, same version is already published
54/430chipenrich.data 2.28.0  (landing page)Kai Wang  OK    OK    WARNINGS  UNNEEDED, same version is already published
55/430ChIPexoQualExample 1.28.0  (landing page)Rene Welch  OK    OK    OK  UNNEEDED, same version is already published
56/430chipseqDBData 1.20.0  (landing page)Aaron Lun  OK    OK    OK  UNNEEDED, same version is already published
57/430ChIPXpressData 1.42.0  (landing page)George Wu  OK    OK    WARNINGS  UNNEEDED, same version is already published
58/430chromstaRData 1.30.0  (landing page)Aaron Taudt  OK    OK    WARNINGS  UNNEEDED, same version is already published
59/430CLL 1.44.0  (landing page)Robert Gentleman  OK    OK    OK  UNNEEDED, same version is already published
60/430CLLmethylation 1.24.0  (landing page)Malgorzata Oles , Andreas Mock  OK    OK    OK  UNNEEDED, same version is already published
61/430CluMSIDdata 1.20.0  (landing page)Tobias Depke  OK    OK    OK  UNNEEDED, same version is already published
62/430clustifyrdatahub 1.14.0  (landing page)Kent Riemondy  OK    OK    OK  UNNEEDED, same version is already published
63/430cMap2data 1.40.0  (landing page)J. Saez-Rodriguez  OK    OK    WARNINGS  UNNEEDED, same version is already published
64/430cnvGSAdata 1.40.0  (landing page)Joseph Lugo  OK    OK    WARNINGS  UNNEEDED, same version is already published
65/430COHCAPanno 1.40.0  (landing page)Charles Warden  OK    OK    OK  UNNEEDED, same version is already published
66/430colonCA 1.46.0  (landing page)W Sylvia Merk  OK    OK    WARNINGS  UNNEEDED, same version is already published
67/430CONFESSdata 1.32.0  (landing page)Diana LOW  OK    OK    OK  UNNEEDED, same version is already published
68/430ConnectivityMap 1.40.0  (landing page)Paul Shannon  OK    OK    OK  UNNEEDED, same version is already published
69/430COPDSexualDimorphism.data 1.40.0  (landing page)J Fah Sathirapongsasuti  OK    OK    WARNINGS  UNNEEDED, same version is already published
70/430CopyhelpeR 1.36.0  (landing page)Oscar Krijgsman  OK    OK    OK  UNNEEDED, same version is already published
71/430CopyNeutralIMA 1.22.0  (landing page)Xavier Pastor Hostench  OK    OK    OK  UNNEEDED, same version is already published
72/430CoSIAdata 1.4.0  (landing page)Amanda D. Clark  OK    OK    OK  UNNEEDED, same version is already published
73/430COSMIC.67 1.40.0  (landing page)Julian Gehring  OK    OK    OK  UNNEEDED, same version is already published
74/430CRCL18 1.24.0  (landing page)Claudio Isella  OK    OK    OK  UNNEEDED, same version is already published
75/430crisprScoreData 1.8.0  (landing page)Jean-Philippe Fortin  OK    OK    OK  UNNEEDED, same version is already published
76/430curatedAdipoArray 1.16.0  (landing page)Mahmoud Ahmed  OK    OK    OK  UNNEEDED, same version is already published
77/430curatedAdipoChIP 1.20.0  (landing page)Mahmoud Ahmed  OK    OK    OK  UNNEEDED, same version is already published
78/430curatedAdipoRNA 1.20.0  (landing page)Mahmoud Ahmed  OK    OK    WARNINGS  UNNEEDED, same version is already published
79/430curatedBladderData 1.40.0  (landing page)Markus Riester  OK    OK    OK  UNNEEDED, same version is already published
80/430curatedBreastData 2.32.0  (landing page)Katie Planey  OK    OK    OK  UNNEEDED, same version is already published
81/430curatedCRCData 2.36.0  (landing page)Princy Parsana  OK    OK    ERROR  
82/430curatedMetagenomicData 3.12.0  (landing page)Lucas schiffer  OK    OK    OK  UNNEEDED, same version is already published
83/430curatedOvarianData 1.42.0  (landing page)Levi Waldron  OK    OK    OK  UNNEEDED, same version is already published
84/430curatedPCaData 1.0.0  (landing page)Teemu Daniel Laajala  OK    OK    ERROR  
85/430curatedTBData 2.0.0  (landing page)Xutao Wang  OK    OK    WARNINGS  UNNEEDED, same version is already published
86/430curatedTCGAData 1.26.0  (landing page)Marcel Ramos  OK    OK    WARNINGS  UNNEEDED, same version is already published
87/430CytoMethIC 1.0.0  (landing page)Jacob Fanale  OK    OK    OK  UNNEEDED, same version is already published
D
ABCDEFGHIJKLMNOPQRSTUVWXYZ
PackageMaintainerINSTALLBUILDCHECK
88/430DAPARdata 1.34.0  (landing page)Samuel Wieczorek  OK    OK    OK  UNNEEDED, same version is already published
89/430davidTiling 1.44.0  (landing page)Wolfgang Huber  OK    OK    WARNINGS  UNNEEDED, same version is already published
90/430depmap 1.18.0  (landing page)Laurent Gatto  OK    OK    OK  UNNEEDED, same version is already published
91/430derfinderData 2.22.0  (landing page)Leonardo Collado-Torres  OK    OK    OK  UNNEEDED, same version is already published
92/430DeSousa2013 1.40.0  (landing page)Xin Wang  OK    OK    OK  UNNEEDED, same version is already published
93/430DExMAdata 1.12.0  (landing page)Juan Antonio Villatoro-García  OK    OK    OK  UNNEEDED, same version is already published
94/430diffloopdata 1.32.0  (landing page)Caleb Lareau  OK    OK    OK  UNNEEDED, same version is already published
95/430diggitdata 1.36.0  (landing page)Mariano Javier Alvarez  OK    OK    OK  UNNEEDED, same version is already published
96/430DLBCL 1.44.0  (landing page)Marcus Dittrich  OK    OK    WARNINGS  UNNEEDED, same version is already published
97/430DmelSGI 1.36.0  (landing page)Mike Smith  OK    OK    OK  UNNEEDED, same version is already published
98/430DMRcatedata 2.22.0  (landing page)Tim Peters  OK    OK    OK  UNNEEDED, same version is already published
99/430DNAZooData 1.4.0  (landing page)Jacques Serizay  OK    OK    OK  UNNEEDED, same version is already published
100/430DonaPLLP2013 1.42.0  (landing page)Joseph D. Barry  OK    OK    OK  UNNEEDED, same version is already published
101/430dorothea 1.16.0  (landing page)Pau Badia-i-Mompel  OK    OK    OK  UNNEEDED, same version is already published
102/430dressCheck 0.42.0  (landing page)Vincent Carey  OK    OK    OK  UNNEEDED, same version is already published
103/430DropletTestFiles 1.14.0  (landing page)Aaron Lun  OK    OK    OK  UNNEEDED, same version is already published
104/430DrugVsDiseasedata 1.40.0  (landing page)J. Saez-Rodriguez  OK    OK    OK  UNNEEDED, same version is already published
105/430DuoClustering2018 1.22.0  (landing page)Angelo Duò  OK    OK    OK  UNNEEDED, same version is already published
106/430DvDdata 1.40.0  (landing page)J. Saez-Rodriguez  OK    OK    WARNINGS  UNNEEDED, same version is already published
107/430dyebiasexamples 1.44.0  (landing page)Philip Lijnzaad  OK    OK    WARNINGS  UNNEEDED, same version is already published
E
ABCDEFGHIJKLMNOPQRSTUVWXYZ
PackageMaintainerINSTALLBUILDCHECK
108/430easierData 1.10.0  (landing page)Oscar Lapuente-Santana  OK    OK    OK  UNNEEDED, same version is already published
109/430EatonEtAlChIPseq 0.42.0  (landing page)Patrick Aboyoun  OK    OK    WARNINGS  UNNEEDED, same version is already published
110/430ecoliLeucine 1.44.0  (landing page)Laurent Gautier  OK    OK    WARNINGS  UNNEEDED, same version is already published
111/430EGSEAdata 1.32.0  (landing page)Monther Alhamdoosh  OK    OK    OK  UNNEEDED, same version is already published
112/430ELMER.data 2.28.0  (landing page)Tiago Chedraoui Silva  OK    OK    WARNINGS  UNNEEDED, same version is already published
113/430emtdata 1.12.0  (landing page)Malvika D. Kharbanda  OK    OK    OK  UNNEEDED, same version is already published
114/430EpiMix.data 1.6.0  (landing page)Yuanning Zheng  OK    OK    WARNINGS  UNNEEDED, same version is already published
115/430epimutacionsData 1.8.0  (landing page)Leire Abarrategui  OK    OK    OK  UNNEEDED, same version is already published
116/430estrogen 1.50.0  (landing page)Wolfgang Huber  OK    OK    OK  UNNEEDED, same version is already published
117/430etec16s 1.32.0  (landing page)Joseph N. Paulson  OK    OK    OK  UNNEEDED, same version is already published
118/430ewceData 1.12.0  (landing page)Alan Murphy  OK    OK    OK  UNNEEDED, same version is already published
F
ABCDEFGHIJKLMNOPQRSTUVWXYZ
PackageMaintainerINSTALLBUILDCHECK
119/430faahKO 1.44.0  (landing page)Steffen Neumann  OK    OK    OK  UNNEEDED, same version is already published
120/430fabiaData 1.42.0  (landing page)Sepp Hochreiter  OK    OK    OK  UNNEEDED, same version is already published
121/430FANTOM3and4CAGE 1.40.0  (landing page)Vanja Haberle  OK    OK    OK  UNNEEDED, same version is already published
122/430ffpeExampleData 1.42.0  (landing page)Levi Waldron  OK    OK    OK  UNNEEDED, same version is already published
123/430fibroEset 1.46.0  (landing page)Sylvia Merk  OK    OK    WARNINGS  UNNEEDED, same version is already published
124/430FieldEffectCrc 1.14.0  (landing page)Christopher Dampier  OK    OK    OK  UNNEEDED, same version is already published
125/430FIs 1.32.0  (landing page)Herbert Braselmann , Martin Selmansberger  OK    OK    OK  UNNEEDED, same version is already published
126/430fission 1.24.0  (landing page)Michael Love  OK    OK    OK  UNNEEDED, same version is already published
127/430Fletcher2013a 1.40.0  (landing page)Mauro Castro  OK    OK    OK  UNNEEDED, same version is already published
128/430Fletcher2013b 1.40.0  (landing page)Mauro Castro  OK    OK    WARNINGS  UNNEEDED, same version is already published
129/430flowPloidyData 1.30.0  (landing page)Tyler Smith  OK    OK    OK  UNNEEDED, same version is already published
130/430FlowSorted.Blood.450k 1.42.0  (landing page)Andrew E Jaffe  OK    OK    WARNINGS  UNNEEDED, same version is already published
131/430FlowSorted.Blood.EPIC 2.8.0  (landing page)Lucas A. Salas  OK    OK    OK  UNNEEDED, same version is already published
132/430FlowSorted.CordBlood.450k 1.32.0  (landing page)Shan V. Andrews  OK    OK    WARNINGS  UNNEEDED, same version is already published
133/430FlowSorted.CordBloodCombined.450k 1.20.0  (landing page)Lucas A. Salas  OK    OK    OK  UNNEEDED, same version is already published
134/430FlowSorted.CordBloodNorway.450k 1.30.0  (landing page)kristina gervin  OK    OK    WARNINGS  UNNEEDED, same version is already published
135/430FlowSorted.DLPFC.450k 1.40.0  (landing page)Andrew E Jaffe  OK    OK    WARNINGS  UNNEEDED, same version is already published
136/430flowWorkspaceData 3.16.0  (landing page)Mike Jiang  OK    OK    OK  UNNEEDED, same version is already published
137/430fourDNData 1.4.0  (landing page)Jacques Serizay  OK    OK    OK  UNNEEDED, same version is already published
138/430frmaExampleData 1.40.0  (landing page)Matthew N. McCall  OK    OK    WARNINGS  UNNEEDED, same version is already published
139/430furrowSeg 1.32.0  (landing page)Joseph Barry  OK    OK    WARNINGS  UNNEEDED, same version is already published
G
ABCDEFGHIJKLMNOPQRSTUVWXYZ
PackageMaintainerINSTALLBUILDCHECK
140/430gageData 2.42.0  (landing page)Weijun Luo  OK    OK    OK  UNNEEDED, same version is already published
141/430gaschYHS 1.42.0  (landing page)Vince Carey  OK    OK    OK  UNNEEDED, same version is already published
142/430gcspikelite 1.42.0  (landing page)Mark Robinson  OK    OK    WARNINGS  UNNEEDED, same version is already published
143/430gDNAinRNAseqData 1.4.0  (landing page)Robert Castelo  OK    OK    OK  UNNEEDED, same version is already published
144/430gDRtestData 1.2.0  (landing page)Arkadiusz Gladki  OK    OK    OK  UNNEEDED, same version is already published
145/430geneLenDataBase 1.40.0  (landing page)Matthew Young , Nadia Davidson  OK    OK    ERROR  
146/430genomationData 1.36.0  (landing page)Vedran Franke  OK    OK    OK  UNNEEDED, same version is already published
147/430GenomicDistributionsData 1.12.0  (landing page)Kristyna Kupkova  OK    OK    OK  UNNEEDED, same version is already published
148/430GeuvadisTranscriptExpr 1.32.0  (landing page)Malgorzata Nowicka  OK    OK    OK  UNNEEDED, same version is already published
149/430GIGSEAdata 1.22.0  (landing page)Shijia Zhu  OK    OK    WARNINGS  UNNEEDED, same version is already published
150/430golubEsets 1.46.0  (landing page)Vince Carey  OK    OK    OK  UNNEEDED, same version is already published
151/430gpaExample 1.16.0  (landing page)Dongjun Chung  OK    OK    OK  UNNEEDED, same version is already published
152/430grndata 1.36.0  (landing page)Pau Bellot  OK    OK    WARNINGS  UNNEEDED, same version is already published
153/430GSBenchMark 1.24.0  (landing page)Bahman Afsari  OK    OK    OK  UNNEEDED, same version is already published
154/430GSE103322 1.10.0  (landing page)Mariano Alvarez  OK    OK    OK  UNNEEDED, same version is already published
155/430GSE13015 1.12.0  (landing page)Darawan Rinchai  OK    OK    OK  UNNEEDED, same version is already published
156/430GSE159526 1.10.0  (landing page)Victor Yuan  OK    OK    OK  UNNEEDED, same version is already published
157/430GSE62944 1.32.0  (landing page)Bioconductor Package Maintainer  OK    OK    OK  UNNEEDED, same version is already published
158/430GSVAdata 1.40.0  (landing page)Robert Castelo  OK    OK    OK  UNNEEDED, same version is already published
159/430GWASdata 1.42.0  (landing page)Stephanie Gogarten  OK    OK    OK  UNNEEDED, same version is already published
H
ABCDEFGHIJKLMNOPQRSTUVWXYZ
PackageMaintainerINSTALLBUILDCHECK
160/430h5vcData 2.24.0  (landing page)Paul Theodor Pyl  OK    OK    OK  UNNEEDED, same version is already published
161/430hapmap100khind 1.46.0  (landing page)Benilton Carvalho  OK    OK    OK  UNNEEDED, same version is already published
162/430hapmap100kxba 1.46.0  (landing page)Benilton Carvalho  OK    OK    OK  UNNEEDED, same version is already published
163/430hapmap500knsp 1.46.0  (landing page)Benilton Carvalho  OK    OK    OK  UNNEEDED, same version is already published
164/430hapmap500ksty 1.46.0  (landing page)Benilton Carvalho  OK    OK    OK  UNNEEDED, same version is already published
165/430hapmapsnp5 1.46.0  (landing page)Benilton Carvalho  OK    OK    OK  UNNEEDED, same version is already published
166/430hapmapsnp6 1.46.0  (landing page)Benilton Carvalho  OK    OK    OK  UNNEEDED, same version is already published
167/430harbChIP 1.42.0  (landing page)VJ Carey  OK    OK    OK  UNNEEDED, same version is already published
168/430HarmanData 1.32.0  (landing page)Jason Ross  OK    OK    OK  UNNEEDED, same version is already published
169/430HarmonizedTCGAData 1.26.0  (landing page)Tianle Ma  OK    OK    OK  UNNEEDED, same version is already published
170/430HCAData 1.20.0  (landing page)Federico Marini  OK    OK    OK  UNNEEDED, same version is already published
171/430HCATonsilData 1.2.0  (landing page)Ramon Massoni-Badosa  OK    OK    OK  UNNEEDED, same version is already published
172/430HD2013SGI 1.44.0  (landing page)Mike Smith  OK    OK    OK  UNNEEDED, same version is already published
173/430HDCytoData 1.24.0  (landing page)Lukas M. Weber  OK    OK    OK  UNNEEDED, same version is already published
174/430healthyControlsPresenceChecker 1.8.0  (landing page)Davide Chicco  OK    OK    OK  UNNEEDED, same version is already published
175/430healthyFlowData 1.42.0  (landing page)Ariful Azad  OK    OK    OK  UNNEEDED, same version is already published
176/430HEEBOdata 1.42.0  (landing page)Agnes Paquet  OK    OK    WARNINGS  UNNEEDED, same version is already published
177/430HelloRangesData 1.30.0  (landing page)Michael Lawrence  OK    OK    OK  UNNEEDED, same version is already published
178/430hgu133abarcodevecs 1.42.0  (landing page)Matthew N. McCall  OK    OK    OK  UNNEEDED, same version is already published
179/430hgu133plus2barcodevecs 1.42.0  (landing page)Matthew N. McCall  OK    OK    OK  UNNEEDED, same version is already published
180/430hgu133plus2CellScore 1.24.0  (landing page)Nancy Mah  OK    OK    WARNINGS  UNNEEDED, same version is already published
181/430hgu2beta7 1.44.0  (landing page)Bioconductor Package Maintainer  OK    OK    WARNINGS  UNNEEDED, same version is already published
182/430HiBED 1.2.0  (landing page)Ze Zhang  OK    OK    OK  UNNEEDED, same version is already published
183/430HiCDataHumanIMR90 1.24.0  (landing page)Nicolas Servant  OK    OK    WARNINGS  UNNEEDED, same version is already published
184/430HiCDataLymphoblast 1.40.0  (landing page)Borbala Mifsud  OK    OK    OK  UNNEEDED, same version is already published
185/430HiContactsData 1.6.0  (landing page)Jacques Serizay  OK    OK    OK  UNNEEDED, same version is already published
186/430HighlyReplicatedRNASeq 1.16.0  (landing page)Constantin Ahlmann-Eltze  OK    OK    OK  UNNEEDED, same version is already published
187/430Hiiragi2013 1.40.0  (landing page)Andrzej Oles  OK    OK    OK  UNNEEDED, same version is already published
188/430HIVcDNAvantWout03 1.44.0  (landing page)Chris Fraley  OK    OK    WARNINGS  UNNEEDED, same version is already published
189/430HMP16SData 1.24.0  (landing page)Lucas schiffer  OK    OK    OK  UNNEEDED, same version is already published
190/430HMP2Data 1.18.0  (landing page)John Stansfield , Ekaterina Smirnova  OK    OK    OK  UNNEEDED, same version is already published
191/430homosapienDEE2CellScore 1.0.0  (landing page)Justin Marsh  OK    OK    OK  UNNEEDED, same version is already published
192/430HSMMSingleCell 1.24.0  (landing page)Cole Trapnell  OK    OK    WARNINGS  UNNEEDED, same version is already published
193/430HumanAffyData 1.30.0  (landing page)Brad Nelms  OK    OK    OK  UNNEEDED, same version is already published
194/430humanStemCell 0.44.0  (landing page)R. Gentleman  OK    OK    WARNINGS  UNNEEDED, same version is already published
I
ABCDEFGHIJKLMNOPQRSTUVWXYZ
PackageMaintainerINSTALLBUILDCHECK
195/430IHWpaper 1.32.0  (landing page)Nikos Ignatiadis  OK    OK    OK  UNNEEDED, same version is already published
196/430Illumina450ProbeVariants.db 1.40.0  (landing page)Tiffany Morris  OK    OK    OK  UNNEEDED, same version is already published
197/430IlluminaDataTestFiles 1.42.0  (landing page)Kasper Daniel Hansen  OK    OK    OK  UNNEEDED, same version is already published
198/430imcdatasets 1.12.0  (landing page)Nicolas Damond  OK    OK    OK  UNNEEDED, same version is already published
199/430ITALICSData 2.42.0  (landing page)Guillem Rigaill  OK    OK    WARNINGS  UNNEEDED, same version is already published
200/430Iyer517 1.46.0  (landing page)Vince Carey  OK    OK    OK  UNNEEDED, same version is already published
J
ABCDEFGHIJKLMNOPQRSTUVWXYZ
PackageMaintainerINSTALLBUILDCHECK
201/430JASPAR2014 1.40.0  (landing page)Ge Tan  OK    OK    WARNINGS  UNNEEDED, same version is already published
202/430JASPAR2016 1.32.0  (landing page)Ge Tan  OK    OK    OK  UNNEEDED, same version is already published
203/430JohnsonKinaseData 1.0.0  (landing page)Florian Geier  OK    OK    OK  UNNEEDED, same version is already published
K
ABCDEFGHIJKLMNOPQRSTUVWXYZ
PackageMaintainerINSTALLBUILDCHECK
204/430KEGGandMetacoreDzPathwaysGEO 1.24.0  (landing page)Gaurav Bhatti  OK    OK    OK  UNNEEDED, same version is already published
205/430KEGGdzPathwaysGEO 1.42.0  (landing page)Gaurav Bhatti  OK    OK    OK  UNNEEDED, same version is already published
206/430kidpack 1.46.0  (landing page)Wolfgang Huber  OK    OK    WARNINGS  UNNEEDED, same version is already published
207/430KOdata 1.30.0  (landing page)Shana White  OK    OK    WARNINGS  UNNEEDED, same version is already published
L
ABCDEFGHIJKLMNOPQRSTUVWXYZ
PackageMaintainerINSTALLBUILDCHECK
208/430leeBamViews 1.40.0  (landing page)VJ Carey  OK    OK    OK  UNNEEDED, same version is already published
209/430leukemiasEset 1.40.0  (landing page)Sara Aibar  OK    OK    OK  UNNEEDED, same version is already published
210/430LiebermanAidenHiC2009 0.42.0  (landing page)Felix Klein  OK    OK    WARNINGS  UNNEEDED, same version is already published
211/430ListerEtAlBSseq 1.36.0  (landing page)Mattia Furlan  OK    OK    WARNINGS  UNNEEDED, same version is already published
212/430LRcellTypeMarkers 1.12.0  (landing page)Wenjing Ma  OK    OK    OK  UNNEEDED, same version is already published
213/430lumiBarnes 1.44.0  (landing page)Pan Du  OK    OK    WARNINGS  UNNEEDED, same version is already published
214/430LungCancerACvsSCCGEO 1.40.0  (landing page)Adi Laurentiu Tarca  OK    OK    OK  UNNEEDED, same version is already published
215/430LungCancerLines 0.42.0  (landing page)Michael Lawrence  OK    OK    OK  UNNEEDED, same version is already published
216/430lungExpression 0.42.0  (landing page)Robert Scharpf  OK    OK    OK  UNNEEDED, same version is already published
217/430lydata 1.30.0  (landing page)Alex Pickering  OK    OK    OK  UNNEEDED, same version is already published
M
ABCDEFGHIJKLMNOPQRSTUVWXYZ
PackageMaintainerINSTALLBUILDCHECK
218/430M3DExampleData 1.30.0  (landing page)Tallulah Andrews  OK    OK    WARNINGS  UNNEEDED, same version is already published
219/430macrophage 1.20.0  (landing page)Michael Love  OK    OK    WARNINGS  UNNEEDED, same version is already published
220/430MACSdata 1.12.0  (landing page)Qiang Hu  OK    OK    OK  UNNEEDED, same version is already published
221/430mammaPrintData 1.40.0  (landing page)Luigi Marchionni  OK    OK    OK  UNNEEDED, same version is already published
222/430maqcExpression4plex 1.48.0  (landing page)Benilton Carvalho  OK    OK    OK  UNNEEDED, same version is already published
223/430MAQCsubset 1.42.0  (landing page)VJ Carey  OK    OK    WARNINGS  UNNEEDED, same version is already published
224/430marinerData 1.4.0  (landing page)Eric Davis  OK    OK    OK  UNNEEDED, same version is already published
225/430mCSEAdata 1.24.0  (landing page)Jordi Martorell Marugán  OK    OK    OK  UNNEEDED, same version is already published
226/430mcsurvdata 1.22.0  (landing page)Adria Caballe Mestres  OK    OK    OK  UNNEEDED, same version is already published
227/430MEDIPSData 1.40.0  (landing page)Lukas Chavez  OK    OK    WARNINGS  UNNEEDED, same version is already published
228/430MEEBOdata 1.42.0  (landing page)Agnes Paquet  OK    OK    WARNINGS  UNNEEDED, same version is already published
229/430MerfishData 1.6.0  (landing page)Ludwig Geistlinger  OK    OK    OK  UNNEEDED, same version is already published
230/430MetaGxBreast 1.24.0  (landing page)Benjamin Haibe-Kains  OK    OK    OK  UNNEEDED, same version is already published
231/430MetaGxOvarian 1.24.0  (landing page)Benjamin Haibe-Kains  OK    OK    WARNINGS  UNNEEDED, same version is already published
232/430MetaGxPancreas 1.24.0  (landing page)Benjamin Haibe-Kains  OK    OK    OK  UNNEEDED, same version is already published
233/430metaMSdata 1.40.0  (landing page)Yann Guitton  OK    OK    OK  UNNEEDED, same version is already published
234/430MetaScope 1.4.0  (landing page)Aubrey Odom  OK    OK    OK  UNNEEDED, same version is already published
235/430MethylAidData 1.36.0  (landing page)M. van Iterson  OK    OK    OK  UNNEEDED, same version is already published
236/430methylclockData 1.12.0  (landing page)Dolors Pelegri-Siso  OK    OK    ERROR  
237/430MethylSeqData 1.14.0  (landing page)Peter Hickey  OK    OK    OK  UNNEEDED, same version is already published
238/430MicrobiomeBenchmarkData 1.6.0  (landing page)Samuel Gamboa  OK    OK    OK  UNNEEDED, same version is already published
239/430microbiomeDataSets 1.12.0  (landing page)Leo Lahti  OK    OK    OK  UNNEEDED, same version is already published
240/430microRNAome 1.26.0  (landing page)Matthew N. McCall  OK    OK    WARNINGS  UNNEEDED, same version is already published
241/430minfiData 0.50.0  (landing page)Kasper Daniel Hansen  OK    OK    WARNINGS  UNNEEDED, same version is already published
242/430minfiDataEPIC 1.30.0  (landing page)Kasper Daniel Hansen  OK    OK    WARNINGS  UNNEEDED, same version is already published
243/430minionSummaryData 1.34.0  (landing page)Mike Smith  OK    OK    WARNINGS  UNNEEDED, same version is already published
244/430miRcompData 1.34.0  (landing page)Matthew N. McCall  OK    OK    OK  UNNEEDED, same version is already published
245/430miRNATarget 1.42.0  (landing page)Y-h. Taguchi  OK    OK    OK  UNNEEDED, same version is already published
246/430MMAPPR2data 1.18.0  (landing page)Jonathon Hill  OK    OK    OK  UNNEEDED, same version is already published
247/430MMDiffBamSubset 1.40.0  (landing page)Gabriele Schweikert  OK    OK    OK  UNNEEDED, same version is already published
248/430MOFAdata 1.20.0  (landing page)Britta Velten  OK    OK    OK  UNNEEDED, same version is already published
249/430mosaicsExample 1.42.0  (landing page)Dongjun Chung  OK    OK    WARNINGS  UNNEEDED, same version is already published
250/430mouse4302barcodevecs 1.42.0  (landing page)Matthew N. McCall  OK    OK    OK  UNNEEDED, same version is already published
251/430MouseAgingData 1.0.0  (landing page)Tram Nguyen  OK    OK    OK  UNNEEDED, same version is already published
252/430MouseGastrulationData 1.18.0  (landing page)Jonathan Griffiths  OK    OK    OK  UNNEEDED, same version is already published
253/430MouseThymusAgeing 1.12.0  (landing page)Mike Morgan  OK    OK    ERROR  
254/430msd16s 1.24.0  (landing page)Joseph N. Paulson  OK    OK    OK  UNNEEDED, same version is already published
255/430msdata 0.44.0  (landing page)Steffen Neumann , Laurent Gatto  OK    OK    OK  UNNEEDED, same version is already published
256/430msigdb 1.12.0  (landing page)Dharmesh D. Bhuva  OK    OK    WARNINGS  UNNEEDED, same version is already published
257/430MSMB 1.22.0  (landing page)Wolfgang Huber  OK    OK    OK  UNNEEDED, same version is already published
258/430msPurityData 1.32.0  (landing page)Thomas N. Lawson  OK    OK    OK  UNNEEDED, same version is already published
259/430msqc1 1.32.0  (landing page)Christian Panse  OK    OK    OK  UNNEEDED, same version is already published
260/430mtbls2 1.34.0  (landing page)Steffen Neumann  OK    OK    WARNINGS  UNNEEDED, same version is already published
261/430MUGAExampleData 1.24.0  (landing page)Daniel Gatti  OK    OK    OK  UNNEEDED, same version is already published
262/430muleaData 1.0.0  (landing page)Eszter Ari  OK    OK    WARNINGS  UNNEEDED, same version is already published
263/430multiWGCNAdata 1.2.0  (landing page)Dario Tommasini  OK    OK    OK  UNNEEDED, same version is already published
264/430muscData 1.18.0  (landing page)Helena L. Crowell  OK    OK    WARNINGS  UNNEEDED, same version is already published
265/430mvoutData 1.40.0  (landing page)VJ Carey  OK    OK    OK  UNNEEDED, same version is already published
N
ABCDEFGHIJKLMNOPQRSTUVWXYZ
PackageMaintainerINSTALLBUILDCHECK
266/430NanoporeRNASeq 1.14.0  (landing page)Ying Chen  OK    OK    OK  UNNEEDED, same version is already published
267/430nanotubes 1.20.0  (landing page)Malte Thodberg  OK    OK    OK  UNNEEDED, same version is already published
268/430NCIgraphData 1.40.0  (landing page)Laurent Jacob  OK    OK    WARNINGS  UNNEEDED, same version is already published
269/430NestLink 1.20.0  (landing page)Lennart Opitz  OK    OK    OK  UNNEEDED, same version is already published
270/430NetActivityData 1.6.0  (landing page)Carlos Ruiz-Arenas  OK    OK    OK  UNNEEDED, same version is already published
271/430Neve2006 0.42.0  (landing page)VJ Carey  OK    OK    OK  UNNEEDED, same version is already published
272/430NGScopyData 1.24.0  (landing page)Xiaobei Zhao  OK    OK    OK  UNNEEDED, same version is already published
273/430nullrangesData 1.10.0  (landing page)Michael Love  OK    OK    OK  UNNEEDED, same version is already published
274/430NxtIRFdata 1.10.0  (landing page)Alex Chit Hei Wong  OK    OK    OK  UNNEEDED, same version is already published
O
ABCDEFGHIJKLMNOPQRSTUVWXYZ
PackageMaintainerINSTALLBUILDCHECK
275/430ObMiTi 1.12.0  (landing page)Omar Elashkar  OK    OK    OK  UNNEEDED, same version is already published
276/430oct4 1.20.0  (landing page)Michael Love  OK    OK    OK  UNNEEDED, same version is already published
277/430octad.db 1.6.0  (landing page)E. Chekalin  OK    OK    OK  UNNEEDED, same version is already published
278/430OMICsPCAdata 1.22.0  (landing page)Subhadeep Das  OK    OK    WARNINGS  UNNEEDED, same version is already published
279/430OnassisJavaLibs 1.26.0  (landing page)Eugenia Galeota  OK    OK    OK  UNNEEDED, same version is already published
280/430optimalFlowData 1.16.0  (landing page)Hristo Inouzhe  OK    OK    WARNINGS  UNNEEDED, same version is already published
281/430orthosData 1.2.0  (landing page)Panagiotis Papasaikas  OK    OK    OK  UNNEEDED, same version is already published
P
ABCDEFGHIJKLMNOPQRSTUVWXYZ
PackageMaintainerINSTALLBUILDCHECK
282/430parathyroidSE 1.42.0  (landing page)Michael Love  OK    OK    OK  UNNEEDED, same version is already published
283/430pasilla 1.32.0  (landing page)Alejandro Reyes  OK    OK    OK  UNNEEDED, same version is already published
284/430pasillaBamSubset 0.42.0  (landing page)Hervé Pagès  OK    OK    OK  UNNEEDED, same version is already published
285/430PasillaTranscriptExpr 1.32.0  (landing page)Malgorzata Nowicka  OK    OK    OK  UNNEEDED, same version is already published
286/430PathNetData 1.40.0  (landing page)Ludwig Geistlinger  OK    OK    OK  UNNEEDED, same version is already published
287/430PCHiCdata 1.32.0  (landing page)Mikhail Spivakov  OK    OK    WARNINGS  UNNEEDED, same version is already published
288/430pcxnData 2.26.0  (landing page)Sokratis Kariotis  OK    OK    ERROR  
289/430pd.atdschip.tiling 0.42.0  (landing page)Kristof De Beuf  OK    OK    WARNINGS  UNNEEDED, same version is already published
290/430pepDat 1.24.0  (landing page)Renan Sauteraud  OK    OK    OK  UNNEEDED, same version is already published
291/430PepsNMRData 1.22.0  (landing page)Manon Martin  OK    OK    WARNINGS  UNNEEDED, same version is already published
292/430PhyloProfileData 1.18.0  (landing page)Vinh Tran  OK    OK    OK  UNNEEDED, same version is already published
293/430plotgardenerData 1.10.0  (landing page)Nicole Kramer  OK    OK    WARNINGS  UNNEEDED, same version is already published
294/430prebsdata 1.40.0  (landing page)Karolis Uziela  OK    OK    OK  UNNEEDED, same version is already published
295/430preciseTADhub 1.12.0  (landing page)Mikhail Dozmorov  OK    OK    OK  UNNEEDED, same version is already published
296/430PREDAsampledata 0.44.0  (landing page)Francesco Ferrari  OK    OK    OK  UNNEEDED, same version is already published
297/430ProData 1.42.0  (landing page)Xiaochun Li  OK    OK    OK  UNNEEDED, same version is already published
298/430pRolocdata 1.42.0  (landing page)Laurent Gatto  OK    OK    OK  UNNEEDED, same version is already published
299/430prostateCancerCamcap 1.32.0  (landing page)Mark Dunning  OK    OK    WARNINGS  UNNEEDED, same version is already published
300/430prostateCancerGrasso 1.32.0  (landing page)Mark Dunning  OK    OK    WARNINGS  UNNEEDED, same version is already published
301/430prostateCancerStockholm 1.32.0  (landing page)Mark Dunning  OK    OK    WARNINGS  UNNEEDED, same version is already published
302/430prostateCancerTaylor 1.32.0  (landing page)Mark Dunning  OK    OK    WARNINGS  UNNEEDED, same version is already published
303/430prostateCancerVarambally 1.32.0  (landing page)Mark Dunning  OK    OK    WARNINGS  UNNEEDED, same version is already published
304/430ptairData 1.12.0  (landing page)camille Roquencourt  OK    OK    OK  UNNEEDED, same version is already published
305/430PtH2O2lipids 1.30.0  (landing page)James Collins  OK    OK    WARNINGS  UNNEEDED, same version is already published
306/430pumadata 2.40.0  (landing page)Xuejun liu  OK    OK    OK  UNNEEDED, same version is already published
307/430PWMEnrich.Dmelanogaster.background 4.38.0  (landing page)Diego Diez  OK    OK    OK  UNNEEDED, same version is already published
308/430PWMEnrich.Hsapiens.background 4.38.0  (landing page)Diego Diez  OK    OK    OK  UNNEEDED, same version is already published
309/430PWMEnrich.Mmusculus.background 4.38.0  (landing page)Diego Diez  OK    OK    OK  UNNEEDED, same version is already published
Q
ABCDEFGHIJKLMNOPQRSTUVWXYZ
PackageMaintainerINSTALLBUILDCHECK
310/430QDNAseq.hg19 1.34.0  (landing page)Daoud Sie  OK    OK    OK  UNNEEDED, same version is already published
311/430QDNAseq.mm10 1.34.0  (landing page)Daoud Sie  OK    OK    OK  UNNEEDED, same version is already published
312/430qPLEXdata 1.22.0  (landing page)Kamal Kishore Developer  OK    OK    WARNINGS  UNNEEDED, same version is already published
313/430QUBICdata 1.32.0  (landing page)Yu Zhang  OK    OK    OK  UNNEEDED, same version is already published
R
ABCDEFGHIJKLMNOPQRSTUVWXYZ
PackageMaintainerINSTALLBUILDCHECK
314/430raerdata 1.2.0  (landing page)Kent Riemondy  OK    OK    OK  UNNEEDED, same version is already published
315/430rcellminerData 2.26.0  (landing page)Augustin Luna , Vinodh Rajapakse  OK    OK    WARNINGS  UNNEEDED, same version is already published
316/430RcisTarget.hg19.motifDBs.cisbpOnly.500bp 1.24.0  (landing page)Sara Aibar  OK    OK    WARNINGS  UNNEEDED, same version is already published
317/430ReactomeGSA.data 1.18.0  (landing page)Johannes Griss  OK    OK    WARNINGS  UNNEEDED, same version is already published
318/430RegParallel 1.22.0  (landing page)Kevin Blighe  OK    OK    OK  UNNEEDED, same version is already published
319/430restfulSEData 1.26.0  (landing page)Bioconductor Package Maintainer  OK    OK    OK  UNNEEDED, same version is already published
320/430RforProteomics 1.42.0  (landing page)Laurent Gatto  OK    OK    WARNINGS  UNNEEDED, same version is already published
321/430RGMQLlib 1.24.0  (landing page)Simone Pallotta  OK    OK    OK  UNNEEDED, same version is already published
322/430rheumaticConditionWOLLBOLD 1.42.0  (landing page)Alejandro Quiroz-Zarate  OK    OK    OK  UNNEEDED, same version is already published
323/430RITANdata 1.28.0  (landing page)Michael Zimmermann  OK    OK    OK  UNNEEDED, same version is already published
324/430RLHub 1.10.0  (landing page)Henry Miller  OK    OK    ERROR  
325/430RMassBankData 1.42.0  (landing page)Michael Stravs, Emma Schymanski  OK    OK    OK  UNNEEDED, same version is already published
326/430RNAinteractMAPK 1.42.0  (landing page)Mike Smith  OK    OK    OK  UNNEEDED, same version is already published
327/430RNAmodR.Data 1.18.0  (landing page)Felix G.M. Ernst  OK    OK    OK  UNNEEDED, same version is already published
328/430RNAseqData.HNRNPC.bam.chr14 0.42.0  (landing page)Hervé Pagès  OK    OK    OK  UNNEEDED, same version is already published
329/430RnaSeqSampleSizeData 1.36.0  (landing page)Shilin Zhao  OK    OK    OK  UNNEEDED, same version is already published
330/430RnBeads.hg19 1.36.0  (landing page)RnBeadsAnnotationCreator  OK    OK    WARNINGS  UNNEEDED, same version is already published
331/430RnBeads.hg38 1.36.0  (landing page)RnBeads Team  OK    OK    WARNINGS  UNNEEDED, same version is already published
332/430RnBeads.mm10 2.12.0  (landing page)RnBeads Team  OK    OK    OK  UNNEEDED, same version is already published
333/430RnBeads.mm9 1.36.0  (landing page)RnBeadsAnnotationCreator  OK    OK    WARNINGS  UNNEEDED, same version is already published
334/430RnBeads.rn5 1.36.0  (landing page)RnBeadsAnnotationCreator  OK    OK    OK  UNNEEDED, same version is already published
335/430RRBSdata 1.24.0  (landing page)Katja Hebestreit  OK    OK    OK  UNNEEDED, same version is already published
336/430rRDPData 1.24.0  (landing page)Michael Hahsler  OK    OK    OK  UNNEEDED, same version is already published
337/430RTCGA.clinical 20151101.34.0  (landing page)Marcin Kosinski  OK    OK    WARNINGS  UNNEEDED, same version is already published
338/430RTCGA.CNV 1.32.0  (landing page)Marcin Kosinski  OK    OK    WARNINGS  UNNEEDED, same version is already published
339/430RTCGA.methylation 1.32.0  (landing page)Marcin Kosinski  OK    OK    WARNINGS  UNNEEDED, same version is already published
340/430RTCGA.miRNASeq 1.32.0  (landing page)Marcin Kosinski  OK    OK    WARNINGS  UNNEEDED, same version is already published
341/430RTCGA.mRNA 1.32.0  (landing page)Marcin Kosinski  OK    OK    WARNINGS  UNNEEDED, same version is already published
342/430RTCGA.mutations 20151101.34.0  (landing page)Marcin Kosinski  OK    OK    WARNINGS  UNNEEDED, same version is already published
343/430RTCGA.PANCAN12 1.32.0  (landing page)Marcin Kosinski  OK    OK    OK  UNNEEDED, same version is already published
344/430RTCGA.rnaseq 20151101.34.0  (landing page)Marcin Kosinski  OK    OK    WARNINGS  UNNEEDED, same version is already published
345/430RTCGA.RPPA 1.32.0  (landing page)Marcin Kosinski  OK    OK    WARNINGS  UNNEEDED, same version is already published
346/430RUVnormalizeData 1.24.0  (landing page)Laurent Jacob  OK    OK    OK  UNNEEDED, same version is already published
S
ABCDEFGHIJKLMNOPQRSTUVWXYZ
PackageMaintainerINSTALLBUILDCHECK
347/430sampleClassifierData 1.28.0  (landing page)Khadija El Amrani  OK    OK    OK  UNNEEDED, same version is already published
348/430SBGNview.data 1.18.0  (landing page)Weijun Luo  OK    OK    OK  UNNEEDED, same version is already published
349/430scaeData 1.0.0  (landing page)Ahmad Al Ajami  OK    OK    OK  UNNEEDED, same version is already published
350/430scanMiRData 1.10.0  (landing page)Pierre-Luc Germain  OK    OK    OK  UNNEEDED, same version is already published
351/430scATAC.Explorer 1.10.0  (landing page)Arrian Gibson-Khademi  OK    OK    OK  UNNEEDED, same version is already published
352/430SCLCBam 1.36.0  (landing page)Oscar Krijgsman  OK    OK    OK  UNNEEDED, same version is already published
353/430scMultiome 1.4.0  (landing page)Xiaosai Yao  OK    OK    OK  UNNEEDED, same version is already published
354/430scpdata 1.12.0  (landing page)Christophe Vanderaa  OK    OK    OK  UNNEEDED, same version is already published
355/430scRNAseq 2.18.0  (landing page)Aaron Lun  OK    OK    OK  UNNEEDED, same version is already published
356/430scTHI.data 1.16.0  (landing page)Michele Ceccarelli  OK    OK    OK  UNNEEDED, same version is already published
357/430seq2pathway.data 1.36.0  (landing page)Arjun Kinstlick  OK    OK    WARNINGS  UNNEEDED, same version is already published
358/430seqc 1.38.0  (landing page)Yang Liao and Wei Shi  OK    OK    WARNINGS  UNNEEDED, same version is already published
359/430serumStimulation 1.40.0  (landing page)Morten Hansen,  OK    OK    OK  UNNEEDED, same version is already published
360/430sesameData 1.22.0  (landing page)Wanding Zhou  OK    OK    OK  UNNEEDED, same version is already published
361/430seventyGeneData 1.40.0  (landing page)Luigi Marchionni  OK    OK    OK  UNNEEDED, same version is already published
362/430SFEData 1.6.0  (landing page)Lambda Moses  OK    OK    OK  UNNEEDED, same version is already published
363/430shinyMethylData 1.24.0  (landing page)Jean-Philippe Fortin  OK    OK    WARNINGS  UNNEEDED, same version is already published
364/430signatureSearchData 1.18.0  (landing page)Brendan Gongol  OK    OK    OK  UNNEEDED, same version is already published
365/430SimBenchData 1.12.0  (landing page)Yue Cao  OK    OK    OK  UNNEEDED, same version is already published
366/430simpIntLists 1.40.0  (landing page)Kircicegi Korkmaz  OK    OK    WARNINGS  UNNEEDED, same version is already published
367/430Single.mTEC.Transcriptomes 1.32.0  (landing page)Alejandro Reyes  OK    OK    OK  UNNEEDED, same version is already published
368/430SingleCellMultiModal 1.16.0  (landing page)Marcel Ramos  OK    OK    OK  UNNEEDED, same version is already published
369/430SingleMoleculeFootprintingData 1.12.0  (landing page)Guido Barzaghi  OK    OK    OK  UNNEEDED, same version is already published
370/430smokingMouse 1.2.0  (landing page)Daianna Gonzalez-Padilla  OK    OK    OK  UNNEEDED, same version is already published
371/430SNAData 1.50.0  (landing page)Denise Scholtens  OK    OK    OK  UNNEEDED, same version is already published
372/430SNAGEEdata 1.40.0  (landing page)David Venet  OK    OK    OK  UNNEEDED, same version is already published
373/430SNPhoodData 1.34.0  (landing page)Christian Arnold  OK    OK    OK  UNNEEDED, same version is already published
374/430SomatiCAData 1.42.0  (landing page)Mengjie Chen  OK    OK    WARNINGS  UNNEEDED, same version is already published
375/430SomaticCancerAlterations 1.40.0  (landing page)Julian Gehring  OK    OK    OK  UNNEEDED, same version is already published
376/430SpatialDatasets 1.2.0  (landing page)Ellis Patrick  OK    OK    OK  UNNEEDED, same version is already published
377/430spatialDmelxsim 1.10.0  (landing page)Michael Love  OK    OK    OK  UNNEEDED, same version is already published
378/430spatialLIBD 1.16.0  (landing page)Leonardo Collado-Torres  OK    OK    OK  UNNEEDED, same version is already published
379/430SpikeIn 1.46.0  (landing page)Robert D Shear  OK    OK    OK  UNNEEDED, same version is already published
380/430SpikeInSubset 1.44.0  (landing page)Robert D Shear  OK    OK    WARNINGS  UNNEEDED, same version is already published
381/430spqnData 1.16.0  (landing page)Yi Wang  OK    OK    OK  UNNEEDED, same version is already published
382/430stemHypoxia 1.40.0  (landing page)Cristobal Fresno  OK    OK    OK  UNNEEDED, same version is already published
383/430STexampleData 1.12.0  (landing page)Lukas M. Weber  OK    ERROR  skipped
384/430SubcellularSpatialData 1.0.0  (landing page)Dharmesh D. Bhuva  OK    OK    OK  UNNEEDED, same version is already published
385/430SVM2CRMdata 1.36.0  (landing page)Guidantonio Malagoli Tagliazucchi  OK    OK    WARNINGS  UNNEEDED, same version is already published
386/430synapterdata 1.42.0  (landing page)Laurent Gatto  OK    OK    OK  UNNEEDED, same version is already published
387/430systemPipeRdata 2.8.0  (landing page)Thomas Girke  OK    OK    OK  UNNEEDED, same version is already published
T
ABCDEFGHIJKLMNOPQRSTUVWXYZ
PackageMaintainerINSTALLBUILDCHECK
388/430TabulaMurisData 1.22.0  (landing page)Charlotte Soneson  OK    OK    OK  UNNEEDED, same version is already published
389/430TabulaMurisSenisData 1.10.0  (landing page)Charlotte Soneson  OK    OK    OK  UNNEEDED, same version is already published
390/430TargetScoreData 1.40.0  (landing page)Yue Li  OK    OK    OK  UNNEEDED, same version is already published
391/430TargetSearchData 1.42.0  (landing page)Alvaro Cuadros-Inostroza  OK    OK    OK  UNNEEDED, same version is already published
392/430tartare 1.18.0  (landing page)Christian Panse  OK    OK    OK  UNNEEDED, same version is already published
393/430TBX20BamSubset 1.40.0  (landing page)D. Bindreither  OK    OK    OK  UNNEEDED, same version is already published
394/430TCGAbiolinksGUI.data 1.24.0  (landing page)Tiago Chedraoui Silva  OK    OK    WARNINGS  UNNEEDED, same version is already published
395/430TCGAcrcmiRNA 1.24.0  (landing page)Claudio Isella  OK    OK    OK  UNNEEDED, same version is already published
396/430TCGAcrcmRNA 1.24.0  (landing page)Claudio Isella  OK    OK    OK  UNNEEDED, same version is already published
397/430TCGAMethylation450k 1.40.0  (landing page)Sean Davis  OK    OK    OK  UNNEEDED, same version is already published
398/430TCGAWorkflowData 1.28.0  (landing page)Tiago Chedraoui Silva  OK    OK    OK  UNNEEDED, same version is already published
399/430TENxBrainData 1.24.0  (landing page)Bioconductor Package Maintainer  OK    OK    OK  UNNEEDED, same version is already published
400/430TENxBUSData 1.18.0  (landing page)Lambda Moses  OK    OK    OK  UNNEEDED, same version is already published
401/430TENxPBMCData 1.22.0  (landing page)Stephanie Hicks  OK    OK    OK  UNNEEDED, same version is already published
402/430TENxVisiumData 1.12.0  (landing page)Helena L. Crowell  OK    OK    OK  UNNEEDED, same version is already published
403/430TENxXeniumData 1.0.0  (landing page)Matineh Rahmatbakhsh  OK    OK    OK  YES
404/430timecoursedata 1.14.0  (landing page)Nelle Varoquaux  OK    OK    OK  UNNEEDED, same version is already published
405/430TimerQuant 1.34.0  (landing page)Joseph Barry  OK    OK    OK  UNNEEDED, same version is already published
406/430tinesath1cdf 1.42.0  (landing page)Tine Casneuf  OK    OK    WARNINGS  UNNEEDED, same version is already published
407/430tinesath1probe 1.42.0  (landing page)Tine Casneuf  OK    OK    WARNINGS  UNNEEDED, same version is already published
408/430tissueTreg 1.24.0  (landing page)Charles Imbusch  OK    OK    OK  UNNEEDED, same version is already published
409/430TMExplorer 1.14.0  (landing page)Erik Christensen  OK    OK    OK  UNNEEDED, same version is already published
410/430tofsimsData 1.32.0  (landing page)Lorenz Gerber  OK    OK    WARNINGS  UNNEEDED, same version is already published
411/430topdownrdata 1.26.0  (landing page)Sebastian Gibb  OK    OK    OK  UNNEEDED, same version is already published
412/430TransOmicsData 1.0.1  (landing page)Di Xiao  OK    OK    OK  UNNEEDED, same version is already published
413/430tuberculosis 1.10.0  (landing page)Lucas Schiffer  OK    OK    OK  UNNEEDED, same version is already published
414/430TumourMethData 1.2.0  (landing page)Richard Heery  OK    OK    WARNINGS  UNNEEDED, same version is already published
415/430tweeDEseqCountData 1.42.0  (landing page)Dolors Pelegri-Siso  OK    OK    WARNINGS  UNNEEDED, same version is already published
416/430tximportData 1.32.0  (landing page)Michael Love  OK    OK    OK  UNNEEDED, same version is already published
V
ABCDEFGHIJKLMNOPQRSTUVWXYZ
PackageMaintainerINSTALLBUILDCHECK
417/430VariantToolsData 1.28.0  (landing page)Michael Lawrence  OK    OK    OK  UNNEEDED, same version is already published
418/430VectraPolarisData 1.8.0  (landing page)Wrobel Julia  OK    OK    OK  UNNEEDED, same version is already published
419/430vulcandata 1.26.0  (landing page)Federico M. Giorgi  OK    OK    OK  UNNEEDED, same version is already published
W
ABCDEFGHIJKLMNOPQRSTUVWXYZ
PackageMaintainerINSTALLBUILDCHECK
420/430WeberDivechaLCdata 1.6.0  (landing page)Lukas M. Weber  OK    OK    OK  UNNEEDED, same version is already published
421/430WES.1KG.WUGSC 1.36.0  (landing page)Yuchao Jiang  OK    OK    OK  UNNEEDED, same version is already published
422/430WGSmapp 1.16.0  (landing page)Rujin Wang  OK    OK    WARNINGS  UNNEEDED, same version is already published
X
ABCDEFGHIJKLMNOPQRSTUVWXYZ
PackageMaintainerINSTALLBUILDCHECK
423/430xcoredata 1.8.0  (landing page)Maciej Migdał  OK    OK    OK  UNNEEDED, same version is already published
424/430XhybCasneuf 1.42.0  (landing page)Tineke Casneuf  OK    OK    WARNINGS  UNNEEDED, same version is already published
Y
ABCDEFGHIJKLMNOPQRSTUVWXYZ
PackageMaintainerINSTALLBUILDCHECK
425/430yeastCC 1.44.0  (landing page)Sandrine Dudoit  OK    OK    WARNINGS  UNNEEDED, same version is already published
426/430yeastExpData 0.50.0  (landing page)R. Gentleman  OK    OK    WARNINGS  UNNEEDED, same version is already published
427/430yeastGSData 0.42.0  (landing page)R. Gentleman  OK    OK    WARNINGS  UNNEEDED, same version is already published
428/430yeastNagalakshmi 1.40.0  (landing page)Bioconductor Package Maintainer  OK    OK    OK  UNNEEDED, same version is already published
429/430yeastRNASeq 0.42.0  (landing page)J. Bullard  OK    OK    WARNINGS  UNNEEDED, same version is already published
Z
ABCDEFGHIJKLMNOPQRSTUVWXYZ
PackageMaintainerINSTALLBUILDCHECK
430/430zebrafishRNASeq 1.24.0  (landing page)Davide Risso  OK    OK    OK  UNNEEDED, same version is already published