Back to Mac ARM64 build report for BioC 3.19
ABCDEFGHIJKL[M]NOPQRSTUVWXYZ

This page was generated on 2024-05-07 11:32:24 -0400 (Tue, 07 May 2024).

HostnameOSArch (*)R versionInstalled pkgs
kjohnson3macOS 13.6.5 Venturaarm644.4.0 (2024-04-24) -- "Puppy Cup" 4461
Click on any hostname to see more info about the system (e.g. compilers)      (*) as reported by 'uname -p', except on Windows and Mac OS X

All results for package MoonlightR


To the developers/maintainers of the MoonlightR package:
- Use the following Renviron settings to reproduce errors and warnings.
- If 'R CMD check' started to fail recently on the Linux builder(s) over a missing dependency, add the missing dependency to 'Suggests:' in your DESCRIPTION file. See Renviron.bioc for more information.

raw results

Package 1321/2300HostnameOS / ArchINSTALLBUILDCHECKBUILD BIN
MoonlightR 1.30.0  (landing page)
Matteo Tiberti
Snapshot Date: 2024-05-06 14:00:02 -0400 (Mon, 06 May 2024)
git_url: https://git.bioconductor.org/packages/MoonlightR
git_branch: RELEASE_3_19
git_last_commit: 6c11c45
git_last_commit_date: 2024-04-30 10:54:23 -0400 (Tue, 30 Apr 2024)
kjohnson3macOS 13.6.5 Ventura / arm64  OK    OK    OK    OK  UNNEEDED, same version is already published