Back to Multiple platform build/check report for BioC 3.19:   simplified   long
ABCDEFGHIJKLMNOPQRSTUV[W]XYZ

This page was generated on 2024-05-29 11:35:45 -0400 (Wed, 29 May 2024).

HostnameOSArch (*)R versionInstalled pkgs
nebbiolo1Linux (Ubuntu 22.04.3 LTS)x86_644.4.0 (2024-04-24) -- "Puppy Cup" 4753
lconwaymacOS 12.7.1 Montereyx86_644.4.0 (2024-04-24) -- "Puppy Cup" 4518
Click on any hostname to see more info about the system (e.g. compilers)      (*) as reported by 'uname -p', except on Windows and Mac OS X

Package 2274/2300HostnameOS / ArchINSTALLBUILDCHECKBUILD BIN
wateRmelon 2.10.0  (landing page)
Leo C Schalkwyk
Snapshot Date: 2024-05-28 14:00:10 -0400 (Tue, 28 May 2024)
git_url: https://git.bioconductor.org/packages/wateRmelon
git_branch: RELEASE_3_19
git_last_commit: 0e0ae03
git_last_commit_date: 2024-04-30 10:29:52 -0400 (Tue, 30 Apr 2024)
nebbiolo1Linux (Ubuntu 22.04.3 LTS) / x86_64  OK    OK    WARNINGS  UNNEEDED, same version is already published
lconwaymacOS 12.7.1 Monterey / x86_64  OK    OK    WARNINGS    OK  UNNEEDED, same version is already published
kjohnson3macOS 13.6.5 Ventura / arm64see weekly results here

BUILD BIN results for wateRmelon on lconway


To the developers/maintainers of the wateRmelon package:
- Allow up to 24 hours (and sometimes 48 hours) for your latest push to git@git.bioconductor.org:packages/wateRmelon.git to reflect on this report. See Troubleshooting Build Report for more information.
- Use the following Renviron settings to reproduce errors and warnings.
- If 'R CMD check' started to fail recently on the Linux builder(s) over a missing dependency, add the missing dependency to 'Suggests:' in your DESCRIPTION file. See Renviron.bioc for more information.

raw results


Summary

Package: wateRmelon
Version: 2.10.0
Command: rm -rf wateRmelon.buildbin-libdir && mkdir wateRmelon.buildbin-libdir && /Users/biocbuild/BBS/utils/build-universal.sh wateRmelon_2.10.0.tar.gz /Library/Frameworks/R.framework/Resources/bin/R wateRmelon.buildbin-libdir
StartedAt: 2024-05-29 02:04:50 -0400 (Wed, 29 May 2024)
EndedAt: 2024-05-29 02:06:01 -0400 (Wed, 29 May 2024)
EllapsedTime: 70.7 seconds
RetCode: 0
Status:   OK  
PackageFile: wateRmelon_2.10.0.tgz
PackageFileSize: 3.68 MiB

Command output

##############################################################################
##############################################################################
###
### Running command:
###
###   rm -rf wateRmelon.buildbin-libdir && mkdir wateRmelon.buildbin-libdir && /Users/biocbuild/BBS/utils/build-universal.sh wateRmelon_2.10.0.tar.gz /Library/Frameworks/R.framework/Resources/bin/R wateRmelon.buildbin-libdir
###
##############################################################################
##############################################################################


>>>>>>> 
>>>>>>> INSTALLATION WITH 'R CMD INSTALL --preclean --no-multiarch --library=wateRmelon.buildbin-libdir wateRmelon_2.10.0.tar.gz'
>>>>>>> 

* installing *source* package ‘wateRmelon’ ...
** using staged installation
** R
** data
** inst
** byte-compile and prepare package for lazy loading
No methods found in package ‘RSQLite’ for request: ‘dbListFields’ when loading ‘lumi’
Creating a generic function from function ‘as.methylumi’ in package ‘wateRmelon’
Creating a generic function from function ‘smokp’ in package ‘wateRmelon’
Creating a generic function from function ‘adjustedDasen’ in package ‘wateRmelon’
** help
*** installing help indices
** building package indices
** installing vignettes
** testing if installed package can be loaded from temporary location
No methods found in package ‘RSQLite’ for request: ‘dbListFields’ when loading ‘lumi’
** testing if installed package can be loaded from final location
No methods found in package ‘RSQLite’ for request: ‘dbListFields’ when loading ‘lumi’
** testing if installed package keeps a record of temporary installation path
* DONE (wateRmelon)