Index of /checkResults/3.19/bioc-LATEST/tidyomics/raw-results/lconway

[ICO]NameLast modifiedSizeDescription

[DIR]Parent Directory  -  
[TXT]buildbin-out.txt12-Jun-2024 03:43 1.2K 
[   ]buildbin-summary.dcf12-Jun-2024 03:43 539  
[TXT]buildsrc-out.txt12-Jun-2024 03:43 823  
[   ]buildsrc-summary.dcf12-Jun-2024 03:43 431  
[TXT]checksrc-out.txt12-Jun-2024 03:43 3.5K 
[   ]checksrc-summary.dcf12-Jun-2024 03:43 456  
[TXT]install-out.txt12-Jun-2024 03:43 1.0K 
[   ]install-summary.dcf12-Jun-2024 03:43 272