Index of /checkResults/3.19/bioc-LATEST/tidyomics/raw-results/kjohnson3

[ICO]NameLast modifiedSizeDescription

[DIR]Parent Directory  -  
[TXT]buildbin-out.txt12-Jun-2024 03:44 1.2K 
[   ]buildbin-summary.dcf12-Jun-2024 03:44 539  
[TXT]buildsrc-out.txt12-Jun-2024 03:44 823  
[   ]buildsrc-summary.dcf12-Jun-2024 03:44 431  
[TXT]checksrc-out.txt12-Jun-2024 03:44 3.5K 
[   ]checksrc-summary.dcf12-Jun-2024 03:44 456  
[TXT]install-out.txt12-Jun-2024 03:44 1.0K 
[   ]install-summary.dcf12-Jun-2024 03:44 272