Index of /checkResults/3.19/bioc-LATEST/tRanslatome/raw-results/nebbiolo1

[ICO]NameLast modifiedSizeDescription

[DIR]Parent Directory  -  
[TXT]buildsrc-out.txt20-Jul-2024 06:38 885  
[   ]buildsrc-summary.dcf20-Jul-2024 06:38 429  
[TXT]checksrc-out.txt20-Jul-2024 06:38 3.9K 
[   ]checksrc-summary.dcf20-Jul-2024 06:38 430  
[TXT]install-out.txt20-Jul-2024 06:38 1.1K 
[   ]install-summary.dcf20-Jul-2024 06:38 267