Index of /checkResults/3.19/bioc-LATEST/tRanslatome/raw-results/merida1

[ICO]NameLast modifiedSizeDescription

[DIR]Parent Directory  -  
[TXT]buildbin-out.txt20-Jul-2024 06:40 1.4K 
[   ]buildbin-summary.dcf20-Jul-2024 06:40 555  
[TXT]buildsrc-out.txt20-Jul-2024 06:40 895  
[   ]buildsrc-summary.dcf20-Jul-2024 06:40 440  
[TXT]checksrc-out.txt20-Jul-2024 06:40 4.0K 
[   ]checksrc-summary.dcf20-Jul-2024 06:40 460  
[TXT]install-out.txt20-Jul-2024 06:40 1.2K 
[   ]install-summary.dcf20-Jul-2024 06:40 277