Index of /checkResults/3.19/bioc-LATEST/tRanslatome/raw-results/kjohnson3

[ICO]NameLast modifiedSizeDescription

[DIR]Parent Directory  -  
[TXT]buildbin-out.txt12-Jun-2024 03:44 1.4K 
[   ]buildbin-summary.dcf12-Jun-2024 03:44 554  
[TXT]buildsrc-out.txt12-Jun-2024 03:44 895  
[   ]buildsrc-summary.dcf12-Jun-2024 03:44 440  
[TXT]checksrc-out.txt12-Jun-2024 03:44 4.0K 
[   ]checksrc-summary.dcf12-Jun-2024 03:44 460  
[TXT]install-out.txt12-Jun-2024 03:44 1.2K 
[   ]install-summary.dcf12-Jun-2024 03:44 277