Index of /checkResults/3.19/bioc-LATEST/synergyfinder/raw-results/palomino3

[ICO]NameLast modifiedSizeDescription

[DIR]Parent Directory  -  
[TXT]buildbin-out.txt29-Jun-2024 06:42 1.1K 
[   ]buildbin-summary.dcf29-Jun-2024 06:42 551  
[TXT]buildsrc-out.txt29-Jun-2024 06:42 929  
[   ]buildsrc-summary.dcf29-Jun-2024 06:42 477  
[TXT]checksrc-out.txt29-Jun-2024 06:42 9.8K 
[   ]checksrc-summary.dcf29-Jun-2024 06:42 477  
[TXT]install-out.txt29-Jun-2024 06:42 1.0K 
[   ]install-summary.dcf29-Jun-2024 06:42 280