Index of /checkResults/3.19/bioc-LATEST/synergyfinder/raw-results/nebbiolo1

[ICO]NameLast modifiedSizeDescription

[DIR]Parent Directory  -  
[TXT]buildsrc-out.txt20-Jul-2024 06:38 893  
[   ]buildsrc-summary.dcf20-Jul-2024 06:38 435  
[TXT]checksrc-out.txt20-Jul-2024 06:38 9.9K 
[   ]checksrc-summary.dcf20-Jul-2024 06:38 444  
[TXT]install-out.txt20-Jul-2024 06:38 1.0K 
[   ]install-summary.dcf20-Jul-2024 06:38 270