Index of /checkResults/3.19/bioc-LATEST/synergyfinder/raw-results/kunpeng2

[ICO]NameLast modifiedSizeDescription

[DIR]Parent Directory  -  
[TXT]buildsrc-out.txt10-May-2024 00:41 904  
[   ]buildsrc-summary.dcf10-May-2024 00:41 447  
[TXT]checksrc-out.txt09-May-2024 00:41 10K 
[   ]checksrc-summary.dcf09-May-2024 00:41 481  
[TXT]install-out.txt10-May-2024 00:41 1.0K 
[   ]install-summary.dcf10-May-2024 00:41 281