Index of /checkResults/3.19/bioc-LATEST/synergyfinder/raw-results/kjohnson3

[ICO]NameLast modifiedSizeDescription

[DIR]Parent Directory  -  
[TXT]buildbin-out.txt12-Jun-2024 03:44 1.2K 
[   ]buildbin-summary.dcf12-Jun-2024 03:44 566  
[TXT]buildsrc-out.txt12-Jun-2024 03:44 903  
[   ]buildsrc-summary.dcf12-Jun-2024 03:44 446  
[TXT]checksrc-out.txt12-Jun-2024 03:44 10K 
[   ]checksrc-summary.dcf12-Jun-2024 03:44 474  
[TXT]install-out.txt12-Jun-2024 03:44 1.0K 
[   ]install-summary.dcf12-Jun-2024 03:44 280