Index of /checkResults/3.19/bioc-LATEST/skewr/raw-results/palomino3

[ICO]NameLast modifiedSizeDescription

[DIR]Parent Directory  -  
[TXT]buildbin-out.txt29-Jun-2024 06:42 1.5K 
[   ]buildbin-summary.dcf29-Jun-2024 06:42 503  
[TXT]buildsrc-out.txt29-Jun-2024 06:42 866  
[   ]buildsrc-summary.dcf29-Jun-2024 06:42 445  
[TXT]checksrc-out.txt29-Jun-2024 06:42 5.1K 
[   ]checksrc-summary.dcf29-Jun-2024 06:42 445  
[TXT]install-out.txt29-Jun-2024 06:42 1.4K 
[   ]install-summary.dcf29-Jun-2024 06:42 264