Index of /checkResults/3.19/bioc-LATEST/skewr/raw-results/merida1

[ICO]NameLast modifiedSizeDescription

[DIR]Parent Directory  -  
[TXT]buildbin-out.txt13-Jul-2024 06:41 1.4K 
[   ]buildbin-summary.dcf13-Jul-2024 06:41 519  
[TXT]buildsrc-out.txt13-Jul-2024 06:41 848  
[   ]buildsrc-summary.dcf13-Jul-2024 06:41 422  
[TXT]checksrc-out.txt13-Jul-2024 06:41 5.0K 
[   ]checksrc-summary.dcf13-Jul-2024 06:41 436  
[TXT]install-out.txt13-Jul-2024 06:41 1.2K 
[   ]install-summary.dcf13-Jul-2024 06:41 266