Index of /checkResults/3.19/bioc-LATEST/skewr/raw-results/kunpeng2

[ICO]NameLast modifiedSizeDescription

[DIR]Parent Directory  -  
[TXT]buildsrc-out.txt10-May-2024 00:41 849  
[   ]buildsrc-summary.dcf10-May-2024 00:41 423  
[TXT]checksrc-out.txt10-May-2024 00:41 5.0K 
[   ]checksrc-summary.dcf10-May-2024 00:41 443  
[TXT]install-out.txt10-May-2024 00:41 1.2K 
[   ]install-summary.dcf10-May-2024 00:41 266