Index of /checkResults/3.19/bioc-LATEST/skewr/raw-results/kjohnson3

[ICO]NameLast modifiedSizeDescription

[DIR]Parent Directory  -  
[TXT]buildbin-out.txt12-Jun-2024 03:44 1.4K 
[   ]buildbin-summary.dcf12-Jun-2024 03:44 519  
[TXT]buildsrc-out.txt12-Jun-2024 03:44 848  
[   ]buildsrc-summary.dcf12-Jun-2024 03:44 422  
[TXT]checksrc-out.txt12-Jun-2024 03:44 5.0K 
[   ]checksrc-summary.dcf12-Jun-2024 03:44 436  
[TXT]install-out.txt12-Jun-2024 03:44 1.2K 
[   ]install-summary.dcf12-Jun-2024 03:44 265