Index of /checkResults/3.19/bioc-LATEST/skewr/raw-results/kjohnson1

[ICO]NameLast modifiedSizeDescription

[DIR]Parent Directory  -  
[TXT]buildbin-out.txt17-Jul-2024 06:43 1.4K 
[   ]buildbin-summary.dcf17-Jul-2024 06:43 518  
[TXT]buildsrc-out.txt17-Jul-2024 06:43 848  
[   ]buildsrc-summary.dcf17-Jul-2024 06:43 422  
[TXT]checksrc-out.txt17-Jul-2024 06:43 5.0K 
[   ]checksrc-summary.dcf17-Jul-2024 06:43 436  
[TXT]install-out.txt17-Jul-2024 06:43 1.2K 
[   ]install-summary.dcf17-Jul-2024 06:43 265