Index of /checkResults/3.19/bioc-LATEST/sitadela/raw-results/palomino3

[ICO]NameLast modifiedSizeDescription

[DIR]Parent Directory  -  
[TXT]buildbin-out.txt22-Jun-2024 06:40 1.3K 
[   ]buildbin-summary.dcf22-Jun-2024 06:40 522  
[TXT]buildsrc-out.txt22-Jun-2024 06:40 881  
[   ]buildsrc-summary.dcf22-Jun-2024 06:40 457  
[TXT]checksrc-out.txt22-Jun-2024 06:40 3.6K 
[   ]checksrc-summary.dcf22-Jun-2024 06:40 451  
[TXT]install-out.txt22-Jun-2024 06:40 1.1K 
[   ]install-summary.dcf22-Jun-2024 06:40 270