Index of /checkResults/3.19/bioc-LATEST/sitadela/raw-results/nebbiolo1

[ICO]NameLast modifiedSizeDescription

[DIR]Parent Directory  -  
[TXT]buildsrc-out.txt19-Jun-2024 06:58 850  
[   ]buildsrc-summary.dcf19-Jun-2024 06:58 421  
[TXT]checksrc-out.txt19-Jun-2024 06:58 3.5K 
[   ]checksrc-summary.dcf19-Jun-2024 06:58 418  
[TXT]install-out.txt19-Jun-2024 06:58 1.1K 
[   ]install-summary.dcf19-Jun-2024 06:58 261