Index of /checkResults/3.19/bioc-LATEST/sitadela/raw-results/merida1

[ICO]NameLast modifiedSizeDescription

[DIR]Parent Directory  -  
[TXT]buildbin-out.txt22-Jun-2024 06:41 1.4K 
[   ]buildbin-summary.dcf22-Jun-2024 06:41 536  
[TXT]buildsrc-out.txt22-Jun-2024 06:41 860  
[   ]buildsrc-summary.dcf22-Jun-2024 06:41 429  
[TXT]checksrc-out.txt22-Jun-2024 06:41 3.8K 
[   ]checksrc-summary.dcf22-Jun-2024 06:41 448  
[TXT]install-out.txt22-Jun-2024 06:41 1.2K 
[   ]install-summary.dcf22-Jun-2024 06:41 271