Index of /checkResults/3.19/bioc-LATEST/signifinder/raw-results/palomino3

[ICO]NameLast modifiedSizeDescription

[DIR]Parent Directory  -  
[TXT]buildbin-out.txt15-Jun-2024 03:38 1.1K 
[   ]buildbin-summary.dcf15-Jun-2024 03:38 537  
[TXT]buildsrc-out.txt15-Jun-2024 03:38 918  
[   ]buildsrc-summary.dcf15-Jun-2024 03:38 467  
[TXT]checksrc-out.txt15-Jun-2024 03:38 3.5K 
[   ]checksrc-summary.dcf15-Jun-2024 03:38 462  
[TXT]install-out.txt15-Jun-2024 03:38 1.0K 
[   ]install-summary.dcf15-Jun-2024 03:38 275