Index of /checkResults/3.19/bioc-LATEST/signifinder/raw-results/nebbiolo1

[ICO]NameLast modifiedSizeDescription

[DIR]Parent Directory  -  
[TXT]buildsrc-out.txt15-Jun-2024 03:37 884  
[   ]buildsrc-summary.dcf15-Jun-2024 03:37 428  
[TXT]checksrc-out.txt15-Jun-2024 03:37 3.5K 
[   ]checksrc-summary.dcf15-Jun-2024 03:37 429  
[TXT]install-out.txt15-Jun-2024 03:37 1.0K 
[   ]install-summary.dcf15-Jun-2024 03:37 266