Index of /checkResults/3.19/bioc-LATEST/signifinder/raw-results/merida1

[ICO]NameLast modifiedSizeDescription

[DIR]Parent Directory  -  
[TXT]buildbin-out.txt05-Mar-2024 01:39 1.2K 
[   ]buildbin-summary.dcf05-Mar-2024 01:39 552  
[TXT]buildsrc-out.txt05-Mar-2024 01:39 894  
[   ]buildsrc-summary.dcf05-Mar-2024 01:39 438  
[TXT]checksrc-out.txt05-Mar-2024 01:39 3.6K 
[   ]checksrc-summary.dcf05-Mar-2024 01:39 459  
[TXT]install-out.txt05-Mar-2024 01:39 1.0K 
[   ]install-summary.dcf05-Mar-2024 01:39 276