Index of /checkResults/3.19/bioc-LATEST/signifinder/raw-results/kunpeng2

[ICO]NameLast modifiedSizeDescription

[DIR]Parent Directory  -  
[TXT]buildsrc-out.txt10-May-2024 00:41 895  
[   ]buildsrc-summary.dcf10-May-2024 00:41 439  
[TXT]checksrc-out.txt10-May-2024 00:41 3.6K 
[   ]checksrc-summary.dcf10-May-2024 00:41 466  
[TXT]install-out.txt10-May-2024 00:41 1.0K 
[   ]install-summary.dcf10-May-2024 00:41 277