Index of /checkResults/3.19/bioc-LATEST/signifinder/raw-results/kjohnson1

[ICO]NameLast modifiedSizeDescription

[DIR]Parent Directory  -  
[TXT]buildbin-out.txt03-Jul-2024 23:23 1.2K 
[   ]buildbin-summary.dcf03-Jul-2024 23:23 551  
[TXT]buildsrc-out.txt17-Jul-2024 06:43 914  
[   ]buildsrc-summary.dcf17-Jul-2024 06:43 349  
[TXT]checksrc-out.txt03-Jul-2024 23:23 3.5K 
[   ]checksrc-summary.dcf03-Jul-2024 23:23 459  
[TXT]install-out.txt17-Jul-2024 06:43 709  
[   ]install-summary.dcf17-Jul-2024 06:43 278