Back to Multiple platform build/check report for BioC 3.19:   simplified   long
ABCDEFGHIJKLMNOPQR[S]TUVWXYZ

This page was generated on 2024-07-16 17:41 -0400 (Tue, 16 Jul 2024).

HostnameOSArch (*)R versionInstalled pkgs
nebbiolo1Linux (Ubuntu 22.04.3 LTS)x86_644.4.1 (2024-06-14) -- "Race for Your Life" 4742
palomino7Windows Server 2022 Datacenterx644.4.1 (2024-06-14 ucrt) -- "Race for Your Life" 4484
merida1macOS 12.7.4 Montereyx86_644.4.1 (2024-06-14) -- "Race for Your Life" 4513
kjohnson1macOS 13.6.6 Venturaarm644.4.1 (2024-06-14) -- "Race for Your Life" 4462
Click on any hostname to see more info about the system (e.g. compilers)      (*) as reported by 'uname -p', except on Windows and Mac OS X

Package 1940/2300HostnameOS / ArchINSTALLBUILDCHECKBUILD BIN
seqArchRplus 1.4.0  (landing page)
Sarvesh Nikumbh
Snapshot Date: 2024-07-14 14:00 -0400 (Sun, 14 Jul 2024)
git_url: https://git.bioconductor.org/packages/seqArchRplus
git_branch: RELEASE_3_19
git_last_commit: 7d2b261
git_last_commit_date: 2024-04-30 11:46:19 -0400 (Tue, 30 Apr 2024)
nebbiolo1Linux (Ubuntu 22.04.3 LTS) / x86_64  OK    OK    OK  UNNEEDED, same version is already published
palomino7Windows Server 2022 Datacenter / x64  OK    OK    OK    OK  
merida1macOS 12.7.4 Monterey / x86_64  OK    OK    OK    OK  UNNEEDED, same version is already published
kjohnson1macOS 13.6.6 Ventura / arm64  OK    OK    OK    OK  UNNEEDED, same version is already published


CHECK results for seqArchRplus on merida1

To the developers/maintainers of the seqArchRplus package:
- Allow up to 24 hours (and sometimes 48 hours) for your latest push to git@git.bioconductor.org:packages/seqArchRplus.git to reflect on this report. See Troubleshooting Build Report for more information.
- Use the following Renviron settings to reproduce errors and warnings.
- If 'R CMD check' started to fail recently on the Linux builder(s) over a missing dependency, add the missing dependency to 'Suggests:' in your DESCRIPTION file. See Renviron.bioc for more information.

raw results


Summary

Package: seqArchRplus
Version: 1.4.0
Command: /Library/Frameworks/R.framework/Resources/bin/R CMD check --install=check:seqArchRplus.install-out.txt --library=/Library/Frameworks/R.framework/Resources/library --no-vignettes --timings seqArchRplus_1.4.0.tar.gz
StartedAt: 2024-07-15 11:35:41 -0400 (Mon, 15 Jul 2024)
EndedAt: 2024-07-15 11:47:53 -0400 (Mon, 15 Jul 2024)
EllapsedTime: 732.3 seconds
RetCode: 0
Status:   OK  
CheckDir: seqArchRplus.Rcheck
Warnings: 0

Command output

##############################################################################
##############################################################################
###
### Running command:
###
###   /Library/Frameworks/R.framework/Resources/bin/R CMD check --install=check:seqArchRplus.install-out.txt --library=/Library/Frameworks/R.framework/Resources/library --no-vignettes --timings seqArchRplus_1.4.0.tar.gz
###
##############################################################################
##############################################################################


* using log directory ‘/Users/biocbuild/bbs-3.19-bioc/meat/seqArchRplus.Rcheck’
* using R version 4.4.1 (2024-06-14)
* using platform: x86_64-apple-darwin20
* R was compiled by
    Apple clang version 14.0.0 (clang-1400.0.29.202)
    GNU Fortran (GCC) 12.2.0
* running under: macOS Monterey 12.7.5
* using session charset: UTF-8
* using option ‘--no-vignettes’
* checking for file ‘seqArchRplus/DESCRIPTION’ ... OK
* checking extension type ... Package
* this is package ‘seqArchRplus’ version ‘1.4.0’
* package encoding: UTF-8
* checking package namespace information ... OK
* checking package dependencies ... OK
* checking if this is a source package ... OK
* checking if there is a namespace ... OK
* checking for hidden files and directories ... OK
* checking for portable file names ... OK
* checking for sufficient/correct file permissions ... OK
* checking whether package ‘seqArchRplus’ can be installed ... OK
* checking installed package size ... OK
* checking package directory ... OK
* checking ‘build’ directory ... OK
* checking DESCRIPTION meta-information ... OK
* checking top-level files ... OK
* checking for left-over files ... OK
* checking index information ... OK
* checking package subdirectories ... OK
* checking code files for non-ASCII characters ... OK
* checking R files for syntax errors ... OK
* checking whether the package can be loaded ... OK
* checking whether the package can be loaded with stated dependencies ... OK
* checking whether the package can be unloaded cleanly ... OK
* checking whether the namespace can be loaded with stated dependencies ... OK
* checking whether the namespace can be unloaded cleanly ... OK
* checking whether startup messages can be suppressed ... OK
* checking dependencies in R code ... OK
* checking S3 generic/method consistency ... OK
* checking replacement functions ... OK
* checking foreign function calls ... OK
* checking R code for possible problems ... OK
* checking Rd files ... OK
* checking Rd metadata ... OK
* checking Rd cross-references ... OK
* checking for missing documentation entries ... OK
* checking for code/documentation mismatches ... OK
* checking Rd \usage sections ... OK
* checking Rd contents ... OK
* checking for unstated dependencies in examples ... OK
* checking files in ‘vignettes’ ... OK
* checking examples ... OK
Examples with CPU (user + system) or elapsed time > 5s
                                  user system elapsed
per_cluster_go_term_enrichments 85.945  3.985 109.700
generate_all_plots              78.618  3.448  99.833
per_cluster_annotations         19.556  0.380  23.841
curate_clusters                 17.837  0.494  22.932
plot_motif_heatmaps2            11.413  0.441  14.640
per_cluster_seqlogos             4.165  0.064   5.102
* checking for unstated dependencies in vignettes ... OK
* checking package vignettes ... OK
* checking running R code from vignettes ... SKIPPED
* checking re-building of vignette outputs ... SKIPPED
* checking PDF version of manual ... OK
* DONE

Status: OK


Installation output

seqArchRplus.Rcheck/00install.out

##############################################################################
##############################################################################
###
### Running command:
###
###   /Library/Frameworks/R.framework/Resources/bin/R CMD INSTALL seqArchRplus
###
##############################################################################
##############################################################################


* installing to library ‘/Library/Frameworks/R.framework/Versions/4.4-x86_64/Resources/library’
* installing *source* package ‘seqArchRplus’ ...
** using staged installation
** R
** inst
** byte-compile and prepare package for lazy loading
** help
*** installing help indices
** building package indices
** installing vignettes
** testing if installed package can be loaded from temporary location
** testing if installed package can be loaded from final location
** testing if installed package keeps a record of temporary installation path
* DONE (seqArchRplus)

Tests output


Example timings

seqArchRplus.Rcheck/seqArchRplus-Ex.timings

nameusersystemelapsed
curate_clusters17.837 0.49422.932
generate_all_plots78.618 3.44899.833
generate_html_report0.0210.0040.028
handle_tc_from_cage1.5450.2882.380
iqw_tpm_plots1.3600.1531.866
order_clusters_iqw0.0340.0050.050
per_cluster_annotations19.556 0.38023.841
per_cluster_go_term_enrichments 85.945 3.985109.700
per_cluster_seqlogos4.1650.0645.102
per_cluster_strand_dist2.1510.0282.584
plot_motif_heatmaps1.9680.1052.416
plot_motif_heatmaps211.413 0.44114.640
seqs_acgt_image0.4830.0190.621
write_seqArchR_cluster_track_bed0.0890.0090.112