Index of /checkResults/3.19/bioc-LATEST/scGPS/raw-results

[ICO]NameLast modifiedSizeDescription

[DIR]Parent Directory  -  
[   ]info.dcf13-Jul-2024 06:38 267  
[DIR]kjohnson1/13-Jul-2024 06:43 -  
[DIR]kjohnson3/12-Jun-2024 03:44 -  
[DIR]kunpeng2/10-May-2024 00:41 -  
[DIR]lconway/12-Jun-2024 03:43 -  
[DIR]merida1/13-Jul-2024 06:41 -  
[DIR]nebbiolo1/13-Jul-2024 06:39 -  
[DIR]palomino3/29-Jun-2024 06:42 -  
[DIR]palomino7/13-Jul-2024 06:40 -