Index of /checkResults/3.19/bioc-LATEST/sSNAPPY/raw-results/nebbiolo1

[ICO]NameLast modifiedSizeDescription

[DIR]Parent Directory  -  
[TXT]buildsrc-out.txt22-Jun-2024 06:38 868  
[   ]buildsrc-summary.dcf22-Jun-2024 06:38 416  
[TXT]checksrc-out.txt22-Jun-2024 06:38 3.9K 
[   ]checksrc-summary.dcf22-Jun-2024 06:38 412  
[TXT]install-out.txt22-Jun-2024 06:38 960  
[   ]install-summary.dcf22-Jun-2024 06:38 258