Index of /checkResults/3.19/bioc-LATEST/sSNAPPY/raw-results/merida1

[ICO]NameLast modifiedSizeDescription

[DIR]Parent Directory  -  
[TXT]buildbin-out.txt19-Jun-2024 07:00 1.1K 
[   ]buildbin-summary.dcf19-Jun-2024 07:00 527  
[TXT]buildsrc-out.txt19-Jun-2024 07:00 878  
[   ]buildsrc-summary.dcf19-Jun-2024 07:00 426  
[TXT]checksrc-out.txt19-Jun-2024 07:00 4.0K 
[   ]checksrc-summary.dcf19-Jun-2024 07:00 442  
[TXT]install-out.txt19-Jun-2024 07:00 1.0K 
[   ]install-summary.dcf19-Jun-2024 07:00 268