Index of /checkResults/3.19/bioc-LATEST/sSNAPPY/raw-results/lconway

[ICO]NameLast modifiedSizeDescription

[DIR]Parent Directory  -  
[TXT]install-out.txt12-Jun-2024 03:43 1.0K 
[   ]install-summary.dcf12-Jun-2024 03:43 268  
[TXT]buildsrc-out.txt12-Jun-2024 03:43 878  
[   ]buildsrc-summary.dcf12-Jun-2024 03:43 425  
[TXT]checksrc-out.txt12-Jun-2024 03:43 4.0K 
[   ]checksrc-summary.dcf12-Jun-2024 03:43 442  
[   ]buildbin-summary.dcf12-Jun-2024 03:43 527  
[TXT]buildbin-out.txt12-Jun-2024 03:43 1.1K