Back to Multiple platform build/check report for BioC 3.19:   simplified   long
ABCDEFGHIJKLMNOPQR[S]TUVWXYZ

This page was generated on 2024-06-18 17:58 -0400 (Tue, 18 Jun 2024).

HostnameOSArch (*)R versionInstalled pkgs
nebbiolo1Linux (Ubuntu 22.04.3 LTS)x86_644.4.0 (2024-04-24) -- "Puppy Cup" 4758
palomino3Windows Server 2022 Datacenterx644.4.0 (2024-04-24 ucrt) -- "Puppy Cup" 4492
merida1macOS 12.7.4 Montereyx86_644.4.0 (2024-04-24) -- "Puppy Cup" 4464
kjohnson1macOS 13.6.6 Venturaarm644.4.0 (2024-04-24) -- "Puppy Cup" 4464
Click on any hostname to see more info about the system (e.g. compilers)      (*) as reported by 'uname -p', except on Windows and Mac OS X

Package 2069/2300HostnameOS / ArchINSTALLBUILDCHECKBUILD BIN
sRACIPE 1.20.0  (landing page)
Vivek Kohar
Snapshot Date: 2024-06-16 14:00 -0400 (Sun, 16 Jun 2024)
git_url: https://git.bioconductor.org/packages/sRACIPE
git_branch: RELEASE_3_19
git_last_commit: 659431a
git_last_commit_date: 2024-04-30 11:13:59 -0400 (Tue, 30 Apr 2024)
nebbiolo1Linux (Ubuntu 22.04.3 LTS) / x86_64  OK    OK    OK  UNNEEDED, same version is already published
palomino3Windows Server 2022 Datacenter / x64  OK    OK    OK    OK  UNNEEDED, same version is already published
merida1macOS 12.7.4 Monterey / x86_64  OK    OK    OK    OK  UNNEEDED, same version is already published
kjohnson1macOS 13.6.6 Ventura / arm64  OK    OK    OK    OK  UNNEEDED, same version is already published


CHECK results for sRACIPE on nebbiolo1

To the developers/maintainers of the sRACIPE package:
- Allow up to 24 hours (and sometimes 48 hours) for your latest push to git@git.bioconductor.org:packages/sRACIPE.git to reflect on this report. See Troubleshooting Build Report for more information.
- Use the following Renviron settings to reproduce errors and warnings.
- If 'R CMD check' started to fail recently on the Linux builder(s) over a missing dependency, add the missing dependency to 'Suggests:' in your DESCRIPTION file. See Renviron.bioc for more information.

raw results


Summary

Package: sRACIPE
Version: 1.20.0
Command: /home/biocbuild/bbs-3.19-bioc/R/bin/R CMD check --install=check:sRACIPE.install-out.txt --library=/home/biocbuild/bbs-3.19-bioc/R/site-library --timings sRACIPE_1.20.0.tar.gz
StartedAt: 2024-06-17 04:18:36 -0400 (Mon, 17 Jun 2024)
EndedAt: 2024-06-17 04:21:43 -0400 (Mon, 17 Jun 2024)
EllapsedTime: 186.3 seconds
RetCode: 0
Status:   OK  
CheckDir: sRACIPE.Rcheck
Warnings: 0

Command output

##############################################################################
##############################################################################
###
### Running command:
###
###   /home/biocbuild/bbs-3.19-bioc/R/bin/R CMD check --install=check:sRACIPE.install-out.txt --library=/home/biocbuild/bbs-3.19-bioc/R/site-library --timings sRACIPE_1.20.0.tar.gz
###
##############################################################################
##############################################################################


* using log directory ‘/home/biocbuild/bbs-3.19-bioc/meat/sRACIPE.Rcheck’
* using R version 4.4.0 (2024-04-24)
* using platform: x86_64-pc-linux-gnu
* R was compiled by
    gcc (Ubuntu 11.4.0-1ubuntu1~22.04) 11.4.0
    GNU Fortran (Ubuntu 11.4.0-1ubuntu1~22.04) 11.4.0
* running under: Ubuntu 22.04.4 LTS
* using session charset: UTF-8
* checking for file ‘sRACIPE/DESCRIPTION’ ... OK
* checking extension type ... Package
* this is package ‘sRACIPE’ version ‘1.20.0’
* package encoding: UTF-8
* checking package namespace information ... OK
* checking package dependencies ... OK
* checking if this is a source package ... OK
* checking if there is a namespace ... OK
* checking for hidden files and directories ... OK
* checking for portable file names ... OK
* checking for sufficient/correct file permissions ... OK
* checking whether package ‘sRACIPE’ can be installed ... OK
* used C++ compiler: ‘g++ (Ubuntu 11.4.0-1ubuntu1~22.04) 11.4.0’
* checking C++ specification ... NOTE
  Specified C++11: please drop specification unless essential
* checking installed package size ... OK
* checking package directory ... OK
* checking ‘build’ directory ... OK
* checking DESCRIPTION meta-information ... NOTE
License stub is invalid DCF.
* checking top-level files ... OK
* checking for left-over files ... OK
* checking index information ... OK
* checking package subdirectories ... OK
* checking code files for non-ASCII characters ... OK
* checking R files for syntax errors ... OK
* checking whether the package can be loaded ... OK
* checking whether the package can be loaded with stated dependencies ... OK
* checking whether the package can be unloaded cleanly ... OK
* checking whether the namespace can be loaded with stated dependencies ... OK
* checking whether the namespace can be unloaded cleanly ... OK
* checking loading without being on the library search path ... OK
* checking dependencies in R code ... OK
* checking S3 generic/method consistency ... OK
* checking replacement functions ... OK
* checking foreign function calls ... OK
* checking R code for possible problems ... NOTE
sracipeSimulate: no visible global function definition for
  ‘registerDoFuture’
sracipeSimulate: no visible global function definition for ‘plan’
sracipeSimulate: no visible global function definition for ‘%dopar%’
sracipeSimulate: no visible global function definition for ‘foreach’
sracipeSimulate: no visible binding for global variable
  ‘configurationTmp’
sracipeSimulate: no visible binding for global variable ‘outFileGETmp’
sracipeSimulate: no visible binding for global variable
  ‘outFileParamsTmp’
sracipeSimulate: no visible binding for global variable ‘outFileICTmp’
Undefined global functions or variables:
  %dopar% configurationTmp foreach outFileGETmp outFileICTmp
  outFileParamsTmp plan registerDoFuture
* checking Rd files ... NOTE
checkRd: (-1) sracipeHeatmapSimilarity.Rd:31: Lost braces
    31 | If clusterCut is missing, hierarchical clustering using /code{ward.D2}
       |                                                              ^
checkRd: (-1) sracipeHeatmapSimilarity.Rd:32: Lost braces
    32 | and /code{distance  = (1-cor(x, method = "spear"))/2} will be used to 
       |          ^
* checking Rd metadata ... OK
* checking Rd cross-references ... OK
* checking for missing documentation entries ... OK
* checking for code/documentation mismatches ... OK
* checking Rd \usage sections ... OK
* checking Rd contents ... OK
* checking for unstated dependencies in examples ... OK
* checking contents of ‘data’ directory ... OK
* checking data for non-ASCII characters ... OK
* checking data for ASCII and uncompressed saves ... OK
* checking line endings in C/C++/Fortran sources/headers ... OK
* checking line endings in Makefiles ... OK
* checking compilation flags in Makevars ... OK
* checking for GNU extensions in Makefiles ... OK
* checking for portable use of $(BLAS_LIBS) and $(LAPACK_LIBS) ... OK
* checking use of PKG_*FLAGS in Makefiles ... OK
* checking compiled code ... NOTE
Note: information on .o files is not available
* checking files in ‘vignettes’ ... OK
* checking examples ... OK
Examples with CPU (user + system) or elapsed time > 5s
                  user system elapsed
sracipeSimulate 12.253  0.167  12.422
* checking for unstated dependencies in vignettes ... OK
* checking package vignettes ... OK
* checking re-building of vignette outputs ... OK
* checking PDF version of manual ... OK
* DONE

Status: 5 NOTEs
See
  ‘/home/biocbuild/bbs-3.19-bioc/meat/sRACIPE.Rcheck/00check.log’
for details.


Installation output

sRACIPE.Rcheck/00install.out

##############################################################################
##############################################################################
###
### Running command:
###
###   /home/biocbuild/bbs-3.19-bioc/R/bin/R CMD INSTALL sRACIPE
###
##############################################################################
##############################################################################


* installing to library ‘/home/biocbuild/bbs-3.19-bioc/R/site-library’
* installing *source* package ‘sRACIPE’ ...
** using staged installation
** libs
using C++ compiler: ‘g++ (Ubuntu 11.4.0-1ubuntu1~22.04) 11.4.0’
using C++11
g++ -std=gnu++11 -I"/home/biocbuild/bbs-3.19-bioc/R/include" -DNDEBUG  -I'/home/biocbuild/bbs-3.19-bioc/R/site-library/Rcpp/include' -I/usr/local/include    -fpic  -g -O2  -Wall  -c RcppExports.cpp -o RcppExports.o
g++ -std=gnu++11 -I"/home/biocbuild/bbs-3.19-bioc/R/include" -DNDEBUG  -I'/home/biocbuild/bbs-3.19-bioc/R/site-library/Rcpp/include' -I/usr/local/include    -fpic  -g -O2  -Wall  -c generateThresholds.cpp -o generateThresholds.o
g++ -std=gnu++11 -I"/home/biocbuild/bbs-3.19-bioc/R/include" -DNDEBUG  -I'/home/biocbuild/bbs-3.19-bioc/R/site-library/Rcpp/include' -I/usr/local/include    -fpic  -g -O2  -Wall  -c header.cpp -o header.o
g++ -std=gnu++11 -I"/home/biocbuild/bbs-3.19-bioc/R/include" -DNDEBUG  -I'/home/biocbuild/bbs-3.19-bioc/R/site-library/Rcpp/include' -I/usr/local/include    -fpic  -g -O2  -Wall  -c simulateGRC.cpp -o simulateGRC.o
g++ -std=gnu++11 -I"/home/biocbuild/bbs-3.19-bioc/R/include" -DNDEBUG  -I'/home/biocbuild/bbs-3.19-bioc/R/site-library/Rcpp/include' -I/usr/local/include    -fpic  -g -O2  -Wall  -c steppers.cpp -o steppers.o
g++ -std=gnu++11 -shared -L/home/biocbuild/bbs-3.19-bioc/R/lib -L/usr/local/lib -o sRACIPE.so RcppExports.o generateThresholds.o header.o simulateGRC.o steppers.o -L/home/biocbuild/bbs-3.19-bioc/R/lib -lR
installing to /home/biocbuild/bbs-3.19-bioc/R/site-library/00LOCK-sRACIPE/00new/sRACIPE/libs
** R
** data
** inst
** byte-compile and prepare package for lazy loading
** help
*** installing help indices
** building package indices
** installing vignettes
** testing if installed package can be loaded from temporary location
** checking absolute paths in shared objects and dynamic libraries
** testing if installed package can be loaded from final location
** testing if installed package keeps a record of temporary installation path
* DONE (sRACIPE)

Tests output


Example timings

sRACIPE.Rcheck/sRACIPE-Ex.timings

nameusersystemelapsed
RacipeSE0.0330.0000.033
annotation-RacipeSE-method1.2200.0681.287
annotation-set-RacipeSE-ANY-method0.6770.0680.744
sracipeCircuit-set0.0250.0080.033
sracipeCircuit0.0280.0030.031
sracipeConfig-set0.0080.0000.008
sracipeConfig0.0240.0030.028
sracipeGenParamNames0.0270.0000.027
sracipeGetTS0.0640.0080.071
sracipeIC-set0.1070.0070.115
sracipeIC0.0760.0040.080
sracipeKnockDown0.0010.0000.001
sracipeNormalize0.0760.0030.080
sracipeOverExp0.0010.0000.002
sracipeParams-set0.0760.0120.088
sracipeParams0.0690.0080.077
sracipePlotCircuit0.0010.0000.001
sracipePlotData0.0010.0000.001
sracipePlotParamBifur0.0010.0000.001
sracipeSimulate12.253 0.16712.422