Index of /checkResults/3.19/bioc-LATEST/recount/raw-results/merida1

[ICO]NameLast modifiedSizeDescription

[DIR]Parent Directory  -  
[TXT]buildbin-out.txt20-Jul-2024 06:40 1.2K 
[   ]buildbin-summary.dcf20-Jul-2024 06:40 531  
[TXT]buildsrc-out.txt20-Jul-2024 06:40 1.1K 
[   ]buildsrc-summary.dcf20-Jul-2024 06:40 428  
[TXT]checksrc-out.txt20-Jul-2024 06:40 3.8K 
[   ]checksrc-summary.dcf20-Jul-2024 06:40 445  
[TXT]install-out.txt20-Jul-2024 06:40 1.0K 
[   ]install-summary.dcf20-Jul-2024 06:40 270