Index of /checkResults/3.19/bioc-LATEST/recount/raw-results/lconway

[ICO]NameLast modifiedSizeDescription

[DIR]Parent Directory  -  
[TXT]buildbin-out.txt12-Jun-2024 03:42 1.2K 
[   ]buildbin-summary.dcf12-Jun-2024 03:42 529  
[TXT]buildsrc-out.txt12-Jun-2024 03:42 1.1K 
[   ]buildsrc-summary.dcf12-Jun-2024 03:42 427  
[TXT]checksrc-out.txt12-Jun-2024 03:42 3.9K 
[   ]checksrc-summary.dcf12-Jun-2024 03:42 444  
[TXT]install-out.txt12-Jun-2024 03:42 1.0K 
[   ]install-summary.dcf12-Jun-2024 03:42 269