Index of /checkResults/3.19/bioc-LATEST/recount/raw-results/kunpeng2

[ICO]NameLast modifiedSizeDescription

[DIR]Parent Directory  -  
[TXT]buildsrc-out.txt10-May-2024 00:41 1.5K 
[   ]buildsrc-summary.dcf10-May-2024 00:41 345  
[TXT]checksrc-out.txt03-Feb-2024 02:55 4.0K 
[   ]checksrc-summary.dcf03-Feb-2024 02:55 453  
[TXT]install-out.txt10-May-2024 00:41 1.0K 
[   ]install-summary.dcf10-May-2024 00:41 270