Back to Multiple platform build/check report for BioC 3.19:   simplified   long
ABCDEFGHIJKLMNOPQ[R]STUVWXYZ

This page was generated on 2024-06-18 17:59 -0400 (Tue, 18 Jun 2024).

HostnameOSArch (*)R versionInstalled pkgs
nebbiolo1Linux (Ubuntu 22.04.3 LTS)x86_644.4.0 (2024-04-24) -- "Puppy Cup" 4758
palomino3Windows Server 2022 Datacenterx644.4.0 (2024-04-24 ucrt) -- "Puppy Cup" 4492
merida1macOS 12.7.4 Montereyx86_644.4.0 (2024-04-24) -- "Puppy Cup" 4464
kjohnson1macOS 13.6.6 Venturaarm644.4.0 (2024-04-24) -- "Puppy Cup" 4464
Click on any hostname to see more info about the system (e.g. compilers)      (*) as reported by 'uname -p', except on Windows and Mac OS X

Package 1667/2300HostnameOS / ArchINSTALLBUILDCHECKBUILD BIN
raer 1.2.0  (landing page)
Kent Riemondy
Snapshot Date: 2024-06-16 14:00 -0400 (Sun, 16 Jun 2024)
git_url: https://git.bioconductor.org/packages/raer
git_branch: RELEASE_3_19
git_last_commit: c2ce20e
git_last_commit_date: 2024-04-30 11:52:24 -0400 (Tue, 30 Apr 2024)
nebbiolo1Linux (Ubuntu 22.04.3 LTS) / x86_64  OK    OK    OK  UNNEEDED, same version is already published
palomino3Windows Server 2022 Datacenter / x64  OK    OK    OK    OK  UNNEEDED, same version is already published
merida1macOS 12.7.4 Monterey / x86_64  OK    OK    OK    OK  UNNEEDED, same version is already published
kjohnson1macOS 13.6.6 Ventura / arm64  OK    ERROR  skippedskipped


BUILD BIN results for raer on palomino3

To the developers/maintainers of the raer package:
- Allow up to 24 hours (and sometimes 48 hours) for your latest push to git@git.bioconductor.org:packages/raer.git to reflect on this report. See Troubleshooting Build Report for more information.
- Use the following Renviron settings to reproduce errors and warnings.
- If 'R CMD check' started to fail recently on the Linux builder(s) over a missing dependency, add the missing dependency to 'Suggests:' in your DESCRIPTION file. See Renviron.bioc for more information.

raw results


Summary

Package: raer
Version: 1.2.0
Command: rm -rf raer.buildbin-libdir && mkdir raer.buildbin-libdir && F:\biocbuild\bbs-3.19-bioc\R\bin\R.exe CMD INSTALL --build --library=raer.buildbin-libdir raer_1.2.0.tar.gz
StartedAt: 2024-06-17 17:25:37 -0400 (Mon, 17 Jun 2024)
EndedAt: 2024-06-17 17:29:23 -0400 (Mon, 17 Jun 2024)
EllapsedTime: 225.8 seconds
RetCode: 0
Status:   OK  
PackageFile: raer_1.2.0.zip
PackageFileSize: 5.845 MiB

Command output

##############################################################################
##############################################################################
###
### Running command:
###
###   rm -rf raer.buildbin-libdir && mkdir raer.buildbin-libdir && F:\biocbuild\bbs-3.19-bioc\R\bin\R.exe CMD INSTALL --build --library=raer.buildbin-libdir raer_1.2.0.tar.gz
###
##############################################################################
##############################################################################


* installing *source* package 'raer' ...
** using staged installation
** libs
using C compiler: 'gcc.exe (GCC) 13.2.0'
gcc  -I"F:/biocbuild/bbs-3.19-bioc/R/include" -DNDEBUG -D_FILE_OFFSET_BITS=64 -I'F:/biocbuild/bbs-3.19-bioc/R/library/Rhtslib/include'   -I"C:/rtools44/x86_64-w64-mingw32.static.posix/include"     -O2 -Wall  -mfpmath=sse -msse2 -mstackrealign  -c init.c -o init.o
gcc  -I"F:/biocbuild/bbs-3.19-bioc/R/include" -DNDEBUG -D_FILE_OFFSET_BITS=64 -I'F:/biocbuild/bbs-3.19-bioc/R/library/Rhtslib/include'   -I"C:/rtools44/x86_64-w64-mingw32.static.posix/include"     -O2 -Wall  -mfpmath=sse -msse2 -mstackrealign  -c plp.c -o plp.o
gcc  -I"F:/biocbuild/bbs-3.19-bioc/R/include" -DNDEBUG -D_FILE_OFFSET_BITS=64 -I'F:/biocbuild/bbs-3.19-bioc/R/library/Rhtslib/include'   -I"C:/rtools44/x86_64-w64-mingw32.static.posix/include"     -O2 -Wall  -mfpmath=sse -msse2 -mstackrealign  -c plp_data.c -o plp_data.o
gcc  -I"F:/biocbuild/bbs-3.19-bioc/R/include" -DNDEBUG -D_FILE_OFFSET_BITS=64 -I'F:/biocbuild/bbs-3.19-bioc/R/library/Rhtslib/include'   -I"C:/rtools44/x86_64-w64-mingw32.static.posix/include"     -O2 -Wall  -mfpmath=sse -msse2 -mstackrealign  -c plp_utils.c -o plp_utils.o
gcc  -I"F:/biocbuild/bbs-3.19-bioc/R/include" -DNDEBUG -D_FILE_OFFSET_BITS=64 -I'F:/biocbuild/bbs-3.19-bioc/R/library/Rhtslib/include'   -I"C:/rtools44/x86_64-w64-mingw32.static.posix/include"     -O2 -Wall  -mfpmath=sse -msse2 -mstackrealign  -c regfile.c -o regfile.o
gcc  -I"F:/biocbuild/bbs-3.19-bioc/R/include" -DNDEBUG -D_FILE_OFFSET_BITS=64 -I'F:/biocbuild/bbs-3.19-bioc/R/library/Rhtslib/include'   -I"C:/rtools44/x86_64-w64-mingw32.static.posix/include"     -O2 -Wall  -mfpmath=sse -msse2 -mstackrealign  -c sc-plp.c -o sc-plp.o
gcc  -I"F:/biocbuild/bbs-3.19-bioc/R/include" -DNDEBUG -D_FILE_OFFSET_BITS=64 -I'F:/biocbuild/bbs-3.19-bioc/R/library/Rhtslib/include'   -I"C:/rtools44/x86_64-w64-mingw32.static.posix/include"     -O2 -Wall  -mfpmath=sse -msse2 -mstackrealign  -c utils.c -o utils.o
gcc  -I"F:/biocbuild/bbs-3.19-bioc/R/include" -DNDEBUG -D_FILE_OFFSET_BITS=64 -I'F:/biocbuild/bbs-3.19-bioc/R/library/Rhtslib/include'   -I"C:/rtools44/x86_64-w64-mingw32.static.posix/include"     -O2 -Wall  -mfpmath=sse -msse2 -mstackrealign  -c ext/bcftools/bcftools-ext.c -o ext/bcftools/bcftools-ext.o
gcc  -I"F:/biocbuild/bbs-3.19-bioc/R/include" -DNDEBUG -D_FILE_OFFSET_BITS=64 -I'F:/biocbuild/bbs-3.19-bioc/R/library/Rhtslib/include'   -I"C:/rtools44/x86_64-w64-mingw32.static.posix/include"     -O2 -Wall  -mfpmath=sse -msse2 -mstackrealign  -c ext/htsbox/htsbox-ext.c -o ext/htsbox/htsbox-ext.o
gcc  -I"F:/biocbuild/bbs-3.19-bioc/R/include" -DNDEBUG -D_FILE_OFFSET_BITS=64 -I'F:/biocbuild/bbs-3.19-bioc/R/library/Rhtslib/include'   -I"C:/rtools44/x86_64-w64-mingw32.static.posix/include"     -O2 -Wall  -mfpmath=sse -msse2 -mstackrealign  -c ext/samtools/samtools-ext.c -o ext/samtools/samtools-ext.o
gcc -shared -s -static-libgcc -o raer.dll tmp.def init.o plp.o plp_data.o plp_utils.o regfile.o sc-plp.o utils.o ext/bcftools/bcftools-ext.o ext/htsbox/htsbox-ext.o ext/samtools/samtools-ext.o F:/biocbuild/bbs-3.19-bioc/R/library/Rhtslib/usrlib/x64/libhts.a -lm -lbz2 -llzma -lcurl -lpsl -lbrotlidec -lbrotlicommon -lbcrypt -lidn2 -lunistring -liconv -lssl -lcrypto -lz -lcrypt32 -lwsock32 -lwldap32 -lssh2 -lgcrypt -lgpg-error -lws2_32 -lzstd -lregex -LC:/rtools44/x86_64-w64-mingw32.static.posix/lib/x64 -LC:/rtools44/x86_64-w64-mingw32.static.posix/lib -LF:/biocbuild/bbs-3.19-bioc/R/bin/x64 -lR
installing to F:/biocbuild/bbs-3.19-bioc/meat/raer.buildbin-libdir/00LOCK-raer/00new/raer/libs/x64
** R
** inst
** byte-compile and prepare package for lazy loading
** help
*** installing help indices
*** copying figures
** building package indices
** installing vignettes
** testing if installed package can be loaded from temporary location
** testing if installed package can be loaded from final location
** testing if installed package keeps a record of temporary installation path
* MD5 sums
packaged installation of 'raer' as raer_1.2.0.zip
* DONE (raer)