Back to Multiple platform build/check report for BioC 3.19:   simplified   long
ABCDEFGHIJKLMNOPQ[R]STUVWXYZ

This page was generated on 2024-06-21 17:38 -0400 (Fri, 21 Jun 2024).

HostnameOSArch (*)R versionInstalled pkgs
nebbiolo1Linux (Ubuntu 22.04.3 LTS)x86_644.4.0 (2024-04-24) -- "Puppy Cup" 4758
palomino3Windows Server 2022 Datacenterx644.4.0 (2024-04-24 ucrt) -- "Puppy Cup" 4492
merida1macOS 12.7.4 Montereyx86_644.4.0 (2024-04-24) -- "Puppy Cup" 4506
kjohnson1macOS 13.6.6 Venturaarm644.4.0 (2024-04-24) -- "Puppy Cup" 4464
Click on any hostname to see more info about the system (e.g. compilers)      (*) as reported by 'uname -p', except on Windows and Mac OS X

Package 1667/2300HostnameOS / ArchINSTALLBUILDCHECKBUILD BIN
raer 1.2.0  (landing page)
Kent Riemondy
Snapshot Date: 2024-06-19 14:00 -0400 (Wed, 19 Jun 2024)
git_url: https://git.bioconductor.org/packages/raer
git_branch: RELEASE_3_19
git_last_commit: c2ce20e
git_last_commit_date: 2024-04-30 11:52:24 -0400 (Tue, 30 Apr 2024)
nebbiolo1Linux (Ubuntu 22.04.3 LTS) / x86_64  OK    OK    OK  UNNEEDED, same version is already published
palomino3Windows Server 2022 Datacenter / x64  OK    OK    OK    OK  UNNEEDED, same version is already published
merida1macOS 12.7.4 Monterey / x86_64  OK    OK    OK    OK  UNNEEDED, same version is already published
kjohnson1macOS 13.6.6 Ventura / arm64  OK    ERROR  skippedskipped


CHECK results for raer on nebbiolo1

To the developers/maintainers of the raer package:
- Allow up to 24 hours (and sometimes 48 hours) for your latest push to git@git.bioconductor.org:packages/raer.git to reflect on this report. See Troubleshooting Build Report for more information.
- Use the following Renviron settings to reproduce errors and warnings.
- If 'R CMD check' started to fail recently on the Linux builder(s) over a missing dependency, add the missing dependency to 'Suggests:' in your DESCRIPTION file. See Renviron.bioc for more information.

raw results


Summary

Package: raer
Version: 1.2.0
Command: /home/biocbuild/bbs-3.19-bioc/R/bin/R CMD check --install=check:raer.install-out.txt --library=/home/biocbuild/bbs-3.19-bioc/R/site-library --timings raer_1.2.0.tar.gz
StartedAt: 2024-06-20 02:47:47 -0400 (Thu, 20 Jun 2024)
EndedAt: 2024-06-20 03:01:12 -0400 (Thu, 20 Jun 2024)
EllapsedTime: 805.0 seconds
RetCode: 0
Status:   OK  
CheckDir: raer.Rcheck
Warnings: 0

Command output

##############################################################################
##############################################################################
###
### Running command:
###
###   /home/biocbuild/bbs-3.19-bioc/R/bin/R CMD check --install=check:raer.install-out.txt --library=/home/biocbuild/bbs-3.19-bioc/R/site-library --timings raer_1.2.0.tar.gz
###
##############################################################################
##############################################################################


* using log directory ‘/home/biocbuild/bbs-3.19-bioc/meat/raer.Rcheck’
* using R version 4.4.0 (2024-04-24)
* using platform: x86_64-pc-linux-gnu
* R was compiled by
    gcc (Ubuntu 11.4.0-1ubuntu1~22.04) 11.4.0
    GNU Fortran (Ubuntu 11.4.0-1ubuntu1~22.04) 11.4.0
* running under: Ubuntu 22.04.4 LTS
* using session charset: UTF-8
* checking for file ‘raer/DESCRIPTION’ ... OK
* checking extension type ... Package
* this is package ‘raer’ version ‘1.2.0’
* package encoding: UTF-8
* checking package namespace information ... OK
* checking package dependencies ... OK
* checking if this is a source package ... OK
* checking if there is a namespace ... OK
* checking for hidden files and directories ... OK
* checking for portable file names ... OK
* checking for sufficient/correct file permissions ... OK
* checking whether package ‘raer’ can be installed ... OK
* used C compiler: ‘gcc (Ubuntu 11.4.0-1ubuntu1~22.04) 11.4.0’
* checking installed package size ... OK
* checking package directory ... OK
* checking ‘build’ directory ... OK
* checking DESCRIPTION meta-information ... OK
* checking top-level files ... OK
* checking for left-over files ... OK
* checking index information ... OK
* checking package subdirectories ... OK
* checking code files for non-ASCII characters ... OK
* checking R files for syntax errors ... OK
* checking whether the package can be loaded ... OK
* checking whether the package can be loaded with stated dependencies ... OK
* checking whether the package can be unloaded cleanly ... OK
* checking whether the namespace can be loaded with stated dependencies ... OK
* checking whether the namespace can be unloaded cleanly ... OK
* checking loading without being on the library search path ... OK
* checking dependencies in R code ... OK
* checking S3 generic/method consistency ... OK
* checking replacement functions ... OK
* checking foreign function calls ... OK
* checking R code for possible problems ... OK
* checking Rd files ... OK
* checking Rd metadata ... OK
* checking Rd cross-references ... OK
* checking for missing documentation entries ... OK
* checking for code/documentation mismatches ... OK
* checking Rd \usage sections ... OK
* checking Rd contents ... OK
* checking for unstated dependencies in examples ... OK
* checking line endings in C/C++/Fortran sources/headers ... OK
* checking line endings in Makefiles ... OK
* checking compilation flags in Makevars ... OK
* checking for GNU extensions in Makefiles ... NOTE
GNU make is a SystemRequirements.
* checking for portable use of $(BLAS_LIBS) and $(LAPACK_LIBS) ... OK
* checking use of PKG_*FLAGS in Makefiles ... OK
* checking compiled code ... NOTE
Note: information on .o files is not available
File ‘/home/biocbuild/bbs-3.19-bioc/R/site-library/raer/libs/raer.so’:
  Found ‘abort’, possibly from ‘abort’ (C)
  Found ‘exit’, possibly from ‘exit’ (C)
  Found ‘stderr’, possibly from ‘stderr’ (C)
  Found ‘stdout’, possibly from ‘stdout’ (C)

Compiled code should not call entry points which might terminate R nor
write to stdout/stderr instead of to the console, nor use Fortran I/O
nor system RNGs nor [v]sprintf. The detected symbols are linked into
the code but might come from libraries and not actually be called.

See ‘Writing portable packages’ in the ‘Writing R Extensions’ manual.
* checking files in ‘vignettes’ ... OK
* checking examples ... OK
Examples with CPU (user + system) or elapsed time > 5s
                   user system elapsed
annot_snps       17.720    2.2  19.928
get_splice_sites  8.471    0.9   9.373
* checking for unstated dependencies in ‘tests’ ... OK
* checking tests ...
  Running ‘testthat.R’
 OK
* checking for unstated dependencies in vignettes ... OK
* checking package vignettes ... OK
* checking re-building of vignette outputs ... OK
* checking PDF version of manual ... OK
* DONE

Status: 2 NOTEs
See
  ‘/home/biocbuild/bbs-3.19-bioc/meat/raer.Rcheck/00check.log’
for details.


Installation output

raer.Rcheck/00install.out

##############################################################################
##############################################################################
###
### Running command:
###
###   /home/biocbuild/bbs-3.19-bioc/R/bin/R CMD INSTALL raer
###
##############################################################################
##############################################################################


* installing to library ‘/home/biocbuild/bbs-3.19-bioc/R/site-library’
* installing *source* package ‘raer’ ...
** using staged installation
** libs
using C compiler: ‘gcc (Ubuntu 11.4.0-1ubuntu1~22.04) 11.4.0’
gcc -I"/home/biocbuild/bbs-3.19-bioc/R/include" -DNDEBUG -D_FILE_OFFSET_BITS=64 -I'/home/biocbuild/bbs-3.19-bioc/R/site-library/Rhtslib/include' -I/usr/local/include    -fpic  -g -O2  -Wall -c init.c -o init.o
gcc -I"/home/biocbuild/bbs-3.19-bioc/R/include" -DNDEBUG -D_FILE_OFFSET_BITS=64 -I'/home/biocbuild/bbs-3.19-bioc/R/site-library/Rhtslib/include' -I/usr/local/include    -fpic  -g -O2  -Wall -c plp.c -o plp.o
gcc -I"/home/biocbuild/bbs-3.19-bioc/R/include" -DNDEBUG -D_FILE_OFFSET_BITS=64 -I'/home/biocbuild/bbs-3.19-bioc/R/site-library/Rhtslib/include' -I/usr/local/include    -fpic  -g -O2  -Wall -c plp_data.c -o plp_data.o
gcc -I"/home/biocbuild/bbs-3.19-bioc/R/include" -DNDEBUG -D_FILE_OFFSET_BITS=64 -I'/home/biocbuild/bbs-3.19-bioc/R/site-library/Rhtslib/include' -I/usr/local/include    -fpic  -g -O2  -Wall -c plp_utils.c -o plp_utils.o
gcc -I"/home/biocbuild/bbs-3.19-bioc/R/include" -DNDEBUG -D_FILE_OFFSET_BITS=64 -I'/home/biocbuild/bbs-3.19-bioc/R/site-library/Rhtslib/include' -I/usr/local/include    -fpic  -g -O2  -Wall -c regfile.c -o regfile.o
gcc -I"/home/biocbuild/bbs-3.19-bioc/R/include" -DNDEBUG -D_FILE_OFFSET_BITS=64 -I'/home/biocbuild/bbs-3.19-bioc/R/site-library/Rhtslib/include' -I/usr/local/include    -fpic  -g -O2  -Wall -c sc-plp.c -o sc-plp.o
gcc -I"/home/biocbuild/bbs-3.19-bioc/R/include" -DNDEBUG -D_FILE_OFFSET_BITS=64 -I'/home/biocbuild/bbs-3.19-bioc/R/site-library/Rhtslib/include' -I/usr/local/include    -fpic  -g -O2  -Wall -c utils.c -o utils.o
gcc -I"/home/biocbuild/bbs-3.19-bioc/R/include" -DNDEBUG -D_FILE_OFFSET_BITS=64 -I'/home/biocbuild/bbs-3.19-bioc/R/site-library/Rhtslib/include' -I/usr/local/include    -fpic  -g -O2  -Wall -c ext/bcftools/bcftools-ext.c -o ext/bcftools/bcftools-ext.o
gcc -I"/home/biocbuild/bbs-3.19-bioc/R/include" -DNDEBUG -D_FILE_OFFSET_BITS=64 -I'/home/biocbuild/bbs-3.19-bioc/R/site-library/Rhtslib/include' -I/usr/local/include    -fpic  -g -O2  -Wall -c ext/htsbox/htsbox-ext.c -o ext/htsbox/htsbox-ext.o
gcc -I"/home/biocbuild/bbs-3.19-bioc/R/include" -DNDEBUG -D_FILE_OFFSET_BITS=64 -I'/home/biocbuild/bbs-3.19-bioc/R/site-library/Rhtslib/include' -I/usr/local/include    -fpic  -g -O2  -Wall -c ext/samtools/samtools-ext.c -o ext/samtools/samtools-ext.o
gcc -shared -L/home/biocbuild/bbs-3.19-bioc/R/lib -L/usr/local/lib -o raer.so init.o plp.o plp_data.o plp_utils.o regfile.o sc-plp.o utils.o ext/bcftools/bcftools-ext.o ext/htsbox/htsbox-ext.o ext/samtools/samtools-ext.o /home/biocbuild/bbs-3.19-bioc/R/site-library/Rhtslib/usrlib/libhts.a -lcurl -lbz2 -llzma -lz -L/home/biocbuild/bbs-3.19-bioc/R/lib -lR
installing to /home/biocbuild/bbs-3.19-bioc/R/site-library/00LOCK-raer/00new/raer/libs
** R
** inst
** byte-compile and prepare package for lazy loading
** help
*** installing help indices
*** copying figures
** building package indices
** installing vignettes
** testing if installed package can be loaded from temporary location
** checking absolute paths in shared objects and dynamic libraries
** testing if installed package can be loaded from final location
** testing if installed package keeps a record of temporary installation path
* DONE (raer)

Tests output

raer.Rcheck/tests/testthat.Rout


R version 4.4.0 (2024-04-24) -- "Puppy Cup"
Copyright (C) 2024 The R Foundation for Statistical Computing
Platform: x86_64-pc-linux-gnu

R is free software and comes with ABSOLUTELY NO WARRANTY.
You are welcome to redistribute it under certain conditions.
Type 'license()' or 'licence()' for distribution details.

R is a collaborative project with many contributors.
Type 'contributors()' for more information and
'citation()' on how to cite R or R packages in publications.

Type 'demo()' for some demos, 'help()' for on-line help, or
'help.start()' for an HTML browser interface to help.
Type 'q()' to quit R.

> # This file is part of the standard setup for testthat.
> # It is recommended that you do not modify it.
> #
> # Where should you do additional test configuration?
> # Learn more about the roles of various files in:
> # * https://r-pkgs.org/tests.html
> # * https://testthat.r-lib.org/reference/test_package.html#special-files
> 
> library(testthat)
> library(raer)
> 
> test_check("raer")
Using classic mode.
[raer internal] fail to parse region 'chr1' with /home/biocbuild/bbs-3.19-bioc/R/site-library/raer/extdata/SRR5564269_Aligned.sortedByCoord.out.md.bam
[raer internal] fail to parse region 'chrHello' with /home/biocbuild/bbs-3.19-bioc/R/site-library/raer/extdata/SRR5564269_Aligned.sortedByCoord.out.md.bam
Loading required package: SNPlocs.Hsapiens.dbSNP144.GRCh38
Loading required package: BSgenome
Loading required package: BiocIO

Attaching package: 'BiocIO'

The following object is masked from 'package:rtracklayer':

    FileForFormat

Loading required package: BSgenome.Hsapiens.NCBI.GRCh38
i `filter_clustered_variants()`:  removed 70 sites from 72 (2 remain)
i `filter_clustered_variants()`:  removed 3 sites from 9 (6 remain)
i `filter_clustered_variants()`:  removed 6 sites from 9 (3 remain)
[ FAIL 0 | WARN 1 | SKIP 0 | PASS 262 ]

[ FAIL 0 | WARN 1 | SKIP 0 | PASS 262 ]
> 
> proc.time()
   user  system elapsed 
 91.822   5.871  97.369 

Example timings

raer.Rcheck/raer-Ex.timings

nameusersystemelapsed
annot_from_gr1.8920.8642.757
annot_snps17.720 2.20019.928
calc_AEI1.7410.1841.924
calc_confidence0.2670.0000.266
calc_edit_frequency0.4460.0040.450
calc_scAEI1.1620.0161.178
correct_strand0.5980.0080.606
filter_clustered_variants2.1510.1002.251
filter_multiallelic0.2610.0080.269
filter_splice_variants1.1740.0361.209
find_de_sites1.2370.0241.261
find_mispriming_sites0.5390.0130.553
find_scde_sites2.1060.1082.215
get_overlapping_snps2.6160.3602.976
get_splice_sites8.4710.9009.373
make_de_object0.5680.1320.701
mock_rse0.2330.0160.248
pileup_cells1.2340.0891.322
pileup_sites2.4360.0762.512
raer_example0.0010.0000.001
read_sparray0.8870.0520.939