Back to Multiple platform build/check report for BioC 3.19:   simplified   long
ABCDEFGHIJKLMNO[P]QRSTUVWXYZ

This page was generated on 2024-07-19 17:37 -0400 (Fri, 19 Jul 2024).

HostnameOSArch (*)R versionInstalled pkgs
nebbiolo1Linux (Ubuntu 22.04.3 LTS)x86_644.4.1 (2024-06-14) -- "Race for Your Life" 4742
palomino7Windows Server 2022 Datacenterx644.4.1 (2024-06-14 ucrt) -- "Race for Your Life" 4484
merida1macOS 12.7.5 Montereyx86_644.4.1 (2024-06-14) -- "Race for Your Life" 4513
kjohnson1macOS 13.6.6 Venturaarm644.4.1 (2024-06-14) -- "Race for Your Life" 4462
Click on any hostname to see more info about the system (e.g. compilers)      (*) as reported by 'uname -p', except on Windows and Mac OS X

Package 1542/2300HostnameOS / ArchINSTALLBUILDCHECKBUILD BIN
pepStat 1.38.0  (landing page)
Gregory C Imholte
Snapshot Date: 2024-07-17 14:00 -0400 (Wed, 17 Jul 2024)
git_url: https://git.bioconductor.org/packages/pepStat
git_branch: RELEASE_3_19
git_last_commit: 639f2cd
git_last_commit_date: 2024-04-30 10:37:18 -0400 (Tue, 30 Apr 2024)
nebbiolo1Linux (Ubuntu 22.04.3 LTS) / x86_64  OK    OK    OK  UNNEEDED, same version is already published
palomino7Windows Server 2022 Datacenter / x64  OK    OK    OK    OK  
merida1macOS 12.7.5 Monterey / x86_64  OK    OK    OK    OK  UNNEEDED, same version is already published
kjohnson1macOS 13.6.6 Ventura / arm64  OK    OK    OK    NA  


CHECK results for pepStat on nebbiolo1

To the developers/maintainers of the pepStat package:
- Allow up to 24 hours (and sometimes 48 hours) for your latest push to git@git.bioconductor.org:packages/pepStat.git to reflect on this report. See Troubleshooting Build Report for more information.
- Use the following Renviron settings to reproduce errors and warnings.
- If 'R CMD check' started to fail recently on the Linux builder(s) over a missing dependency, add the missing dependency to 'Suggests:' in your DESCRIPTION file. See Renviron.bioc for more information.

raw results


Summary

Package: pepStat
Version: 1.38.0
Command: /home/biocbuild/bbs-3.19-bioc/R/bin/R CMD check --install=check:pepStat.install-out.txt --library=/home/biocbuild/bbs-3.19-bioc/R/site-library --timings pepStat_1.38.0.tar.gz
StartedAt: 2024-07-18 02:48:19 -0400 (Thu, 18 Jul 2024)
EndedAt: 2024-07-18 02:51:03 -0400 (Thu, 18 Jul 2024)
EllapsedTime: 164.4 seconds
RetCode: 0
Status:   OK  
CheckDir: pepStat.Rcheck
Warnings: 0

Command output

##############################################################################
##############################################################################
###
### Running command:
###
###   /home/biocbuild/bbs-3.19-bioc/R/bin/R CMD check --install=check:pepStat.install-out.txt --library=/home/biocbuild/bbs-3.19-bioc/R/site-library --timings pepStat_1.38.0.tar.gz
###
##############################################################################
##############################################################################


* using log directory ‘/home/biocbuild/bbs-3.19-bioc/meat/pepStat.Rcheck’
* using R version 4.4.1 (2024-06-14)
* using platform: x86_64-pc-linux-gnu
* R was compiled by
    gcc (Ubuntu 11.4.0-1ubuntu1~22.04) 11.4.0
    GNU Fortran (Ubuntu 11.4.0-1ubuntu1~22.04) 11.4.0
* running under: Ubuntu 22.04.4 LTS
* using session charset: UTF-8
* checking for file ‘pepStat/DESCRIPTION’ ... OK
* checking extension type ... Package
* this is package ‘pepStat’ version ‘1.38.0’
* checking package namespace information ... OK
* checking package dependencies ... OK
* checking if this is a source package ... OK
* checking if there is a namespace ... OK
* checking for hidden files and directories ... OK
* checking for portable file names ... OK
* checking for sufficient/correct file permissions ... OK
* checking whether package ‘pepStat’ can be installed ... OK
* checking installed package size ... OK
* checking package directory ... OK
* checking ‘build’ directory ... OK
* checking DESCRIPTION meta-information ... NOTE
Malformed Description field: should contain one or more complete sentences.
* checking top-level files ... OK
* checking for left-over files ... OK
* checking index information ... OK
* checking package subdirectories ... OK
* checking code files for non-ASCII characters ... OK
* checking R files for syntax errors ... OK
* checking whether the package can be loaded ... OK
* checking whether the package can be loaded with stated dependencies ... OK
* checking whether the package can be unloaded cleanly ... OK
* checking whether the namespace can be loaded with stated dependencies ... NOTE
Warning: no function found corresponding to methods exports from ‘pepStat’ for: ‘end’, ‘start’, ‘values’

A namespace must be able to be loaded with just the base namespace
loaded: otherwise if the namespace gets loaded by a saved object, the
session will be unable to start.

Probably some imports need to be declared in the NAMESPACE file.
* checking whether the namespace can be unloaded cleanly ... OK
* checking loading without being on the library search path ... OK
* checking dependencies in R code ... OK
* checking S3 generic/method consistency ... OK
* checking replacement functions ... OK
* checking foreign function calls ... OK
* checking R code for possible problems ... NOTE
.findFDR : <anonymous>: no visible global function definition for
  ‘median’
.sanitize_mapping_file2: no visible global function definition for
  ‘read.csv’
create_db: no visible global function definition for ‘mcols<-’
create_db: no visible global function definition for ‘mcols’
getPlotCoords: no visible global function definition for ‘values’
getWeightedEstimator : <anonymous>: no visible global function
  definition for ‘lm.fit’
getWeightedEstimator : <anonymous>: no visible global function
  definition for ‘lm.wfit’
getWeightedEstimator : <anonymous> : <anonymous>: no visible global
  function definition for ‘sd’
getZpep: no visible global function definition for ‘values’
getZpep : <anonymous>: no visible global function definition for
  ‘values’
plotArrayImage: no visible global function definition for
  ‘dev.interactive’
plotArrayImage: no visible global function definition for
  ‘devAskNewPage’
plotArrayImage: no visible global function definition for ‘dev.hold’
plotArrayImage: no visible global function definition for ‘dev.flush’
plotArrayResiduals: no visible global function definition for
  ‘dev.interactive’
plotArrayResiduals: no visible global function definition for
  ‘devAskNewPage’
plotArrayResiduals: no visible global function definition for
  ‘dev.hold’
plotArrayResiduals: no visible global function definition for
  ‘dev.flush’
summarizePeptides: no visible global function definition for ‘values<-’
summarizePeptides: no visible global function definition for ‘values’
coerce,peptideSet-ExpressionSet: no visible global function definition
  for ‘annotation’
end,peptideSet: no visible global function definition for ‘end’
featureID,peptideSet: no visible global function definition for
  ‘values’
pepZscore,GRanges: no visible global function definition for ‘values’
peptide,peptideSet: no visible global function definition for ‘values’
peptide<-,peptideSet-character: no visible global function definition
  for ‘values’
peptide<-,peptideSet-character: no visible global function definition
  for ‘values<-’
position,peptideSet: no visible global function definition for ‘start’
position,peptideSet: no visible global function definition for ‘end’
start,peptideSet: no visible global function definition for ‘start’
values,peptideSet: no visible global function definition for ‘values’
values<-,peptideSet: no visible global function definition for
  ‘values<-’
write.pSet,peptideSet: no visible global function definition for
  ‘start’
write.pSet,peptideSet: no visible global function definition for ‘end’
write.pSet,peptideSet: no visible global function definition for
  ‘write.csv’
Undefined global functions or variables:
  annotation dev.flush dev.hold dev.interactive devAskNewPage end
  lm.fit lm.wfit mcols mcols<- median read.csv sd start values values<-
  write.csv
Consider adding
  importFrom("grDevices", "dev.flush", "dev.hold", "dev.interactive",
             "devAskNewPage")
  importFrom("stats", "end", "lm.fit", "lm.wfit", "median", "sd",
             "start")
  importFrom("utils", "read.csv", "write.csv")
to your NAMESPACE file.
* checking Rd files ... OK
* checking Rd metadata ... OK
* checking Rd cross-references ... OK
* checking for missing documentation entries ... OK
* checking for code/documentation mismatches ... OK
* checking Rd \usage sections ... OK
* checking Rd contents ... OK
* checking for unstated dependencies in examples ... OK
* checking installed files from ‘inst/doc’ ... OK
* checking files in ‘vignettes’ ... OK
* checking examples ... OK
* checking for unstated dependencies in vignettes ... OK
* checking package vignettes ... OK
* checking re-building of vignette outputs ... OK
* checking PDF version of manual ... OK
* DONE

Status: 3 NOTEs
See
  ‘/home/biocbuild/bbs-3.19-bioc/meat/pepStat.Rcheck/00check.log’
for details.


Installation output

pepStat.Rcheck/00install.out

##############################################################################
##############################################################################
###
### Running command:
###
###   /home/biocbuild/bbs-3.19-bioc/R/bin/R CMD INSTALL pepStat
###
##############################################################################
##############################################################################


* installing to library ‘/home/biocbuild/bbs-3.19-bioc/R/site-library’
* installing *source* package ‘pepStat’ ...
** using staged installation
** R
** inst
** byte-compile and prepare package for lazy loading
No methods found in package ‘GenomicRanges’ for request: ‘mcols<-’ when loading ‘pepStat’
No methods found in package ‘GenomicRanges’ for request: ‘mcols’ when loading ‘pepStat’
No methods found in package ‘IRanges’ for request: ‘values<-’ when loading ‘pepStat’
No methods found in package ‘IRanges’ for request: ‘values’ when loading ‘pepStat’
** help
*** installing help indices
** building package indices
** installing vignettes
** testing if installed package can be loaded from temporary location
No methods found in package ‘GenomicRanges’ for request: ‘mcols<-’ when loading ‘pepStat’
No methods found in package ‘GenomicRanges’ for request: ‘mcols’ when loading ‘pepStat’
No methods found in package ‘IRanges’ for request: ‘values<-’ when loading ‘pepStat’
No methods found in package ‘IRanges’ for request: ‘values’ when loading ‘pepStat’
** testing if installed package can be loaded from final location
No methods found in package ‘GenomicRanges’ for request: ‘mcols<-’ when loading ‘pepStat’
No methods found in package ‘GenomicRanges’ for request: ‘mcols’ when loading ‘pepStat’
No methods found in package ‘IRanges’ for request: ‘values<-’ when loading ‘pepStat’
No methods found in package ‘IRanges’ for request: ‘values’ when loading ‘pepStat’
** testing if installed package keeps a record of temporary installation path
* DONE (pepStat)

Tests output


Example timings

pepStat.Rcheck/pepStat-Ex.timings

nameusersystemelapsed
create_db0.0910.0000.091
makeCalls4.2850.2004.497
makePeptideSet1.5200.0361.555
normalizeArray3.9960.1234.120
plotArray3.3990.0923.491
restab3.4380.0763.515
shinyPepStat000
slidingMean3.5540.0483.602
summarizePeptides3.5260.0523.579