Index of /checkResults/3.19/bioc-LATEST/normr/raw-results/palomino3

[ICO]NameLast modifiedSizeDescription

[DIR]Parent Directory  -  
[TXT]buildbin-out.txt15-Jun-2024 03:38 2.7K 
[   ]buildbin-summary.dcf15-Jun-2024 03:38 504  
[TXT]buildsrc-out.txt15-Jun-2024 03:38 898  
[   ]buildsrc-summary.dcf15-Jun-2024 03:38 445  
[TXT]checksrc-out.txt15-Jun-2024 03:38 4.4K 
[   ]checksrc-summary.dcf15-Jun-2024 03:38 445  
[TXT]install-out.txt15-Jun-2024 03:38 2.6K 
[   ]install-summary.dcf15-Jun-2024 03:38 264