Index of /checkResults/3.19/bioc-LATEST/normr/raw-results/nebbiolo1

[ICO]NameLast modifiedSizeDescription

[DIR]Parent Directory  -  
[TXT]buildsrc-out.txt15-Jun-2024 03:37 868  
[   ]buildsrc-summary.dcf15-Jun-2024 03:37 412  
[TXT]checksrc-out.txt15-Jun-2024 03:37 4.2K 
[   ]checksrc-summary.dcf15-Jun-2024 03:37 412  
[TXT]install-out.txt15-Jun-2024 03:37 2.2K 
[   ]install-summary.dcf15-Jun-2024 03:37 255