Index of /checkResults/3.19/bioc-LATEST/normr/raw-results/lconway

[ICO]NameLast modifiedSizeDescription

[DIR]Parent Directory  -  
[TXT]buildbin-out.txt12-Jun-2024 03:42 4.6K 
[   ]buildbin-summary.dcf12-Jun-2024 03:42 518  
[TXT]buildsrc-out.txt12-Jun-2024 03:42 878  
[   ]buildsrc-summary.dcf12-Jun-2024 03:42 421  
[TXT]checksrc-out.txt12-Jun-2024 03:42 4.3K 
[   ]checksrc-summary.dcf12-Jun-2024 03:42 442  
[TXT]install-out.txt12-Jun-2024 03:42 2.6K 
[   ]install-summary.dcf12-Jun-2024 03:42 265