Back to Multiple platform build/check report for BioC 3.19:   simplified   long
ABCDEFGHIJKLM[N]OPQRSTUVWXYZ

This page was generated on 2024-05-22 11:35:03 -0400 (Wed, 22 May 2024).

HostnameOSArch (*)R versionInstalled pkgs
nebbiolo1Linux (Ubuntu 22.04.3 LTS)x86_644.4.0 (2024-04-24) -- "Puppy Cup" 4751
palomino3Windows Server 2022 Datacenterx644.4.0 (2024-04-24 ucrt) -- "Puppy Cup" 4485
lconwaymacOS 12.7.1 Montereyx86_644.4.0 (2024-04-24) -- "Puppy Cup" 3444
Click on any hostname to see more info about the system (e.g. compilers)      (*) as reported by 'uname -p', except on Windows and Mac OS X

Package 1439/2300HostnameOS / ArchINSTALLBUILDCHECKBUILD BIN
normr 1.30.0  (landing page)
Johannes Helmuth
Snapshot Date: 2024-05-21 14:00:15 -0400 (Tue, 21 May 2024)
git_url: https://git.bioconductor.org/packages/normr
git_branch: RELEASE_3_19
git_last_commit: f3f1d3b
git_last_commit_date: 2024-04-30 10:51:54 -0400 (Tue, 30 Apr 2024)
nebbiolo1Linux (Ubuntu 22.04.3 LTS) / x86_64  OK    OK    WARNINGS  UNNEEDED, same version is already published
palomino3Windows Server 2022 Datacenter / x64  OK    OK    WARNINGS    OK  UNNEEDED, same version is already published
lconwaymacOS 12.7.1 Monterey / x86_64  ERROR    ERROR  skippedskipped
kjohnson3macOS 13.6.5 Ventura / arm64see weekly results here

INSTALL results for normr on nebbiolo1


To the developers/maintainers of the normr package:
- Allow up to 24 hours (and sometimes 48 hours) for your latest push to git@git.bioconductor.org:packages/normr.git to reflect on this report. See Troubleshooting Build Report for more information.
- Use the following Renviron settings to reproduce errors and warnings.
- If 'R CMD check' started to fail recently on the Linux builder(s) over a missing dependency, add the missing dependency to 'Suggests:' in your DESCRIPTION file. See Renviron.bioc for more information.

raw results


Summary

Package: normr
Version: 1.30.0
Command: /home/biocbuild/bbs-3.19-bioc/R/bin/R CMD INSTALL normr
StartedAt: 2024-05-21 15:14:58 -0400 (Tue, 21 May 2024)
EndedAt: 2024-05-21 15:15:48 -0400 (Tue, 21 May 2024)
EllapsedTime: 50.1 seconds
RetCode: 0
Status:   OK  

Command output

##############################################################################
##############################################################################
###
### Running command:
###
###   /home/biocbuild/bbs-3.19-bioc/R/bin/R CMD INSTALL normr
###
##############################################################################
##############################################################################


* installing to library ‘/home/biocbuild/bbs-3.19-bioc/R/site-library’
* installing *source* package ‘normr’ ...
** using staged installation
** libs
using C compiler: ‘gcc (Ubuntu 11.4.0-1ubuntu1~22.04) 11.4.0’
using C++ compiler: ‘g++ (Ubuntu 11.4.0-1ubuntu1~22.04) 11.4.0’
using C++11
g++ -std=gnu++11 -I"/home/biocbuild/bbs-3.19-bioc/R/include" -DNDEBUG -fopenmp -D_GLIBCXX_USE_C99 -I'/home/biocbuild/bbs-3.19-bioc/R/site-library/Rcpp/include' -I/usr/local/include    -fpic  -g -O2  -Wall  -c RcppExports.cpp -o RcppExports.o
g++ -std=gnu++11 -I"/home/biocbuild/bbs-3.19-bioc/R/include" -DNDEBUG -fopenmp -D_GLIBCXX_USE_C99 -I'/home/biocbuild/bbs-3.19-bioc/R/site-library/Rcpp/include' -I/usr/local/include    -fpic  -g -O2  -Wall  -c em.cpp -o em.o
gcc -I"/home/biocbuild/bbs-3.19-bioc/R/include" -DNDEBUG -fopenmp -D_GLIBCXX_USE_C99 -I'/home/biocbuild/bbs-3.19-bioc/R/site-library/Rcpp/include' -I/usr/local/include    -fpic  -g -O2  -Wall -c normr_init.c -o normr_init.o
g++ -std=gnu++11 -shared -L/home/biocbuild/bbs-3.19-bioc/R/lib -L/usr/local/lib -o normr.so RcppExports.o em.o normr_init.o -fopenmp -D_GLIBCXX_USE_C99 -L/home/biocbuild/bbs-3.19-bioc/R/lib -lR
installing to /home/biocbuild/bbs-3.19-bioc/R/site-library/00LOCK-normr/00new/normr/libs
** R
** inst
** byte-compile and prepare package for lazy loading
Creating a new generic function for ‘getClasses’ in package ‘normr’
** help
*** installing help indices
** building package indices
** installing vignettes
** testing if installed package can be loaded from temporary location
** checking absolute paths in shared objects and dynamic libraries
** testing if installed package can be loaded from final location
** testing if installed package keeps a record of temporary installation path
* DONE (normr)