Back to Multiple platform build/check report for BioC 3.19:   simplified   long
ABCDEFGHIJKLM[N]OPQRSTUVWXYZ

This page was generated on 2024-05-21 11:38:16 -0400 (Tue, 21 May 2024).

HostnameOSArch (*)R versionInstalled pkgs
nebbiolo1Linux (Ubuntu 22.04.3 LTS)x86_644.4.0 (2024-04-24) -- "Puppy Cup" 4751
palomino3Windows Server 2022 Datacenterx644.4.0 (2024-04-24 ucrt) -- "Puppy Cup" 4485
lconwaymacOS 12.7.1 Montereyx86_644.4.0 (2024-04-24) -- "Puppy Cup" 4515
Click on any hostname to see more info about the system (e.g. compilers)      (*) as reported by 'uname -p', except on Windows and Mac OS X

Package 1439/2300HostnameOS / ArchINSTALLBUILDCHECKBUILD BIN
normr 1.30.0  (landing page)
Johannes Helmuth
Snapshot Date: 2024-05-20 14:00:15 -0400 (Mon, 20 May 2024)
git_url: https://git.bioconductor.org/packages/normr
git_branch: RELEASE_3_19
git_last_commit: f3f1d3b
git_last_commit_date: 2024-04-30 10:51:54 -0400 (Tue, 30 Apr 2024)
nebbiolo1Linux (Ubuntu 22.04.3 LTS) / x86_64  OK    OK    WARNINGS  UNNEEDED, same version is already published
palomino3Windows Server 2022 Datacenter / x64  OK    OK    WARNINGS    OK  UNNEEDED, same version is already published
lconwaymacOS 12.7.1 Monterey / x86_64  OK    OK    WARNINGS    OK  UNNEEDED, same version is already published
kjohnson3macOS 13.6.5 Ventura / arm64see weekly results here

BUILD BIN results for normr on lconway


To the developers/maintainers of the normr package:
- Allow up to 24 hours (and sometimes 48 hours) for your latest push to git@git.bioconductor.org:packages/normr.git to reflect on this report. See Troubleshooting Build Report for more information.
- Use the following Renviron settings to reproduce errors and warnings.
- If 'R CMD check' started to fail recently on the Linux builder(s) over a missing dependency, add the missing dependency to 'Suggests:' in your DESCRIPTION file. See Renviron.bioc for more information.

raw results


Summary

Package: normr
Version: 1.30.0
Command: rm -rf normr.buildbin-libdir && mkdir normr.buildbin-libdir && /Users/biocbuild/BBS/utils/build-universal.sh normr_1.30.0.tar.gz /Library/Frameworks/R.framework/Resources/bin/R normr.buildbin-libdir
StartedAt: 2024-05-21 01:25:42 -0400 (Tue, 21 May 2024)
EndedAt: 2024-05-21 01:26:52 -0400 (Tue, 21 May 2024)
EllapsedTime: 70.0 seconds
RetCode: 0
Status:   OK  
PackageFile: normr_1.30.0.tgz
PackageFileSize: 4.178 MiB

Command output

##############################################################################
##############################################################################
###
### Running command:
###
###   rm -rf normr.buildbin-libdir && mkdir normr.buildbin-libdir && /Users/biocbuild/BBS/utils/build-universal.sh normr_1.30.0.tar.gz /Library/Frameworks/R.framework/Resources/bin/R normr.buildbin-libdir
###
##############################################################################
##############################################################################


>>>>>>> 
>>>>>>> INSTALLATION WITH 'R CMD INSTALL --preclean --no-multiarch --library=normr.buildbin-libdir normr_1.30.0.tar.gz'
>>>>>>> 

* installing *source* package ‘normr’ ...
** using staged installation
** libs
using C compiler: ‘Apple clang version 14.0.0 (clang-1400.0.29.202)’
using C++ compiler: ‘Apple clang version 14.0.0 (clang-1400.0.29.202)’
using C++11
using SDK: ‘MacOSX11.3.sdk’
clang++ -arch x86_64 -std=gnu++11 -I"/Library/Frameworks/R.framework/Resources/include" -DNDEBUG  -D_GLIBCXX_USE_C99 -I'/Library/Frameworks/R.framework/Versions/4.4-x86_64/Resources/library/Rcpp/include' -I/opt/R/x86_64/include    -fPIC  -falign-functions=64 -Wall -g -O2   -c RcppExports.cpp -o RcppExports.o
clang++ -arch x86_64 -std=gnu++11 -I"/Library/Frameworks/R.framework/Resources/include" -DNDEBUG  -D_GLIBCXX_USE_C99 -I'/Library/Frameworks/R.framework/Versions/4.4-x86_64/Resources/library/Rcpp/include' -I/opt/R/x86_64/include    -fPIC  -falign-functions=64 -Wall -g -O2   -c em.cpp -o em.o
clang -arch x86_64 -I"/Library/Frameworks/R.framework/Resources/include" -DNDEBUG  -D_GLIBCXX_USE_C99 -I'/Library/Frameworks/R.framework/Versions/4.4-x86_64/Resources/library/Rcpp/include' -I/opt/R/x86_64/include    -fPIC  -falign-functions=64 -Wall -g -O2  -c normr_init.c -o normr_init.o
clang++ -arch x86_64 -std=gnu++11 -dynamiclib -Wl,-headerpad_max_install_names -undefined dynamic_lookup -L/Library/Frameworks/R.framework/Resources/lib -L/opt/R/x86_64/lib -o normr.so RcppExports.o em.o normr_init.o -D_GLIBCXX_USE_C99 -F/Library/Frameworks/R.framework/.. -framework R -Wl,-framework -Wl,CoreFoundation
installing to /Users/biocbuild/bbs-3.19-bioc/meat/normr.buildbin-libdir/00LOCK-normr/00new/normr/libs
** R
** inst
** byte-compile and prepare package for lazy loading
Creating a new generic function for ‘getClasses’ in package ‘normr’
** help
*** installing help indices
** building package indices
** installing vignettes
** testing if installed package can be loaded from temporary location
** checking absolute paths in shared objects and dynamic libraries
** testing if installed package can be loaded from final location
** testing if installed package keeps a record of temporary installation path
* DONE (normr)


>>>>>>> 
>>>>>>> FIXING PATHS TO DYNAMIC LIBRARIES FOR normr.buildbin-libdir/normr/libs/normr.so
>>>>>>> 

>>>>>>> Paths before fix:
normr.buildbin-libdir/normr/libs/normr.so:
	normr.so (compatibility version 0.0.0, current version 0.0.0)
	/Library/Frameworks/R.framework/Versions/4.4-x86_64/Resources/lib/libR.dylib (compatibility version 4.4.0, current version 4.4.0)
	/System/Library/Frameworks/CoreFoundation.framework/Versions/A/CoreFoundation (compatibility version 150.0.0, current version 1775.118.101)
	/usr/lib/libc++.1.dylib (compatibility version 1.0.0, current version 905.6.0)
	/usr/lib/libSystem.B.dylib (compatibility version 1.0.0, current version 1292.100.5)

>>>>>>> Fix with install_name_tool:
install_name_tool -change "/usr/local/lib/libgcc_s.1.1.dylib" "/Library/Frameworks/R.framework/Versions/4.4-x86_64/Resources/lib/libgcc_s.1.1.dylib" "normr.buildbin-libdir/normr/libs/normr.so"
install_name_tool -change "/usr/local/lib/libgfortran.5.dylib" "/Library/Frameworks/R.framework/Versions/4.4-x86_64/Resources/lib/libgfortran.5.dylib" "normr.buildbin-libdir/normr/libs/normr.so"
install_name_tool -change "/usr/local/lib/libquadmath.0.dylib" "/Library/Frameworks/R.framework/Versions/4.4-x86_64/Resources/lib/libquadmath.0.dylib" "normr.buildbin-libdir/normr/libs/normr.so"

>>>>>>> Paths after fix:
normr.buildbin-libdir/normr/libs/normr.so:
	normr.so (compatibility version 0.0.0, current version 0.0.0)
	/Library/Frameworks/R.framework/Versions/4.4-x86_64/Resources/lib/libR.dylib (compatibility version 4.4.0, current version 4.4.0)
	/System/Library/Frameworks/CoreFoundation.framework/Versions/A/CoreFoundation (compatibility version 150.0.0, current version 1775.118.101)
	/usr/lib/libc++.1.dylib (compatibility version 1.0.0, current version 905.6.0)
	/usr/lib/libSystem.B.dylib (compatibility version 1.0.0, current version 1292.100.5)