Back to Multiple platform build/check report for BioC 3.19:   simplified   long
ABCDEFGHIJKL[M]NOPQRSTUVWXYZ

This page was generated on 2024-05-22 11:34:13 -0400 (Wed, 22 May 2024).

HostnameOSArch (*)R versionInstalled pkgs
nebbiolo1Linux (Ubuntu 22.04.3 LTS)x86_644.4.0 (2024-04-24) -- "Puppy Cup" 4751
palomino3Windows Server 2022 Datacenterx644.4.0 (2024-04-24 ucrt) -- "Puppy Cup" 4485
lconwaymacOS 12.7.1 Montereyx86_644.4.0 (2024-04-24) -- "Puppy Cup" 3444
Click on any hostname to see more info about the system (e.g. compilers)      (*) as reported by 'uname -p', except on Windows and Mac OS X

All results for package mzR


To the developers/maintainers of the mzR package:
- Allow up to 24 hours (and sometimes 48 hours) for your latest push to git@git.bioconductor.org:packages/mzR.git to reflect on this report. See Troubleshooting Build Report for more information.
- Use the following Renviron settings to reproduce errors and warnings.
- If 'R CMD check' started to fail recently on the Linux builder(s) over a missing dependency, add the missing dependency to 'Suggests:' in your DESCRIPTION file. See Renviron.bioc for more information.

raw results

Package 1399/2300HostnameOS / ArchINSTALLBUILDCHECKBUILD BIN
mzR 2.38.0  (landing page)
Steffen Neumann
Snapshot Date: 2024-05-21 14:00:15 -0400 (Tue, 21 May 2024)
git_url: https://git.bioconductor.org/packages/mzR
git_branch: RELEASE_3_19
git_last_commit: d986b26
git_last_commit_date: 2024-04-30 10:25:16 -0400 (Tue, 30 Apr 2024)
nebbiolo1Linux (Ubuntu 22.04.3 LTS) / x86_64  OK    OK    WARNINGS  UNNEEDED, same version is already published
palomino3Windows Server 2022 Datacenter / x64  OK    OK    WARNINGS    OK  UNNEEDED, same version is already published
lconwaymacOS 12.7.1 Monterey / x86_64  OK    OK    WARNINGS    OK  UNNEEDED, same version is already published
kjohnson3macOS 13.6.5 Ventura / arm64see weekly results here

Results for Bioconductor software packages that depend directly on package mzR

QUICK STATSOS / ArchINSTALLBUILDCHECKBUILD BIN
nebbiolo1Linux (Ubuntu 22.04.3 LTS) / x86_64
0013
0013
0229
palomino3Windows Server 2022 Datacenter / x64
0013
1012
0039
0012
lconwaymacOS 12.7.1 Monterey / x86_64
085
094
0013
004
Package 1/13HostnameOS / ArchINSTALLBUILDCHECKBUILD BIN
adductomicsR 1.20.0  (landing page)
Josie Hayes
git_last_commit: bc22c91
git_last_commit_date: 2024-04-30 11:12:06 -0400
nebbiolo1Linux (Ubuntu 22.04.3 LTS) / x86_64  OK    OK    WARNINGS  UNNEEDED, same version is already published
palomino3Windows Server 2022 Datacenter / x64  OK    OK    WARNINGS    OK  UNNEEDED, same version is already published
lconwaymacOS 12.7.1 Monterey / x86_64  OK    OK    WARNINGS    OK  UNNEEDED, same version is already published
kjohnson3macOS 13.6.5 Ventura / arm64see weekly results here
Package 2/13HostnameOS / ArchINSTALLBUILDCHECKBUILD BIN
CluMSID 1.20.0  (landing page)
Tobias Depke
git_last_commit: 0865238
git_last_commit_date: 2024-04-30 11:11:45 -0400
nebbiolo1Linux (Ubuntu 22.04.3 LTS) / x86_64  OK    OK    WARNINGS  UNNEEDED, same version is already published
palomino3Windows Server 2022 Datacenter / x64  OK    OK    WARNINGS    OK  UNNEEDED, same version is already published
lconwaymacOS 12.7.1 Monterey / x86_64  ERROR    ERROR  skippedskipped
kjohnson3macOS 13.6.5 Ventura / arm64see weekly results here
Package 3/13HostnameOS / ArchINSTALLBUILDCHECKBUILD BIN
DIAlignR 2.12.0  (landing page)
Shubham Gupta
git_last_commit: 32b4d66
git_last_commit_date: 2024-04-30 11:20:25 -0400
nebbiolo1Linux (Ubuntu 22.04.3 LTS) / x86_64  OK    OK    OK  UNNEEDED, same version is already published
palomino3Windows Server 2022 Datacenter / x64  OK    OK    OK    OK  UNNEEDED, same version is already published
lconwaymacOS 12.7.1 Monterey / x86_64  OK    OK    OK    OK  UNNEEDED, same version is already published
kjohnson3macOS 13.6.5 Ventura / arm64see weekly results here
Package 4/13HostnameOS / ArchINSTALLBUILDCHECKBUILD BIN
MSnbase 2.30.1  (landing page)
Laurent Gatto
git_last_commit: 0264c23
git_last_commit_date: 2024-04-30 13:17:18 -0400
nebbiolo1Linux (Ubuntu 22.04.3 LTS) / x86_64  OK    OK    ERROR  
palomino3Windows Server 2022 Datacenter / x64  OK    OK    OK    OK  UNNEEDED, same version is already published
lconwaymacOS 12.7.1 Monterey / x86_64  ERROR    ERROR  skippedskipped
kjohnson3macOS 13.6.5 Ventura / arm64see weekly results here
Package 5/13HostnameOS / ArchINSTALLBUILDCHECKBUILD BIN
MSnID 1.38.0  (landing page)
Vlad Petyuk
git_last_commit: 746047d
git_last_commit_date: 2024-04-30 10:38:55 -0400
nebbiolo1Linux (Ubuntu 22.04.3 LTS) / x86_64  OK    OK    OK  UNNEEDED, same version is already published
palomino3Windows Server 2022 Datacenter / x64  OK    OK    OK    OK  UNNEEDED, same version is already published
lconwaymacOS 12.7.1 Monterey / x86_64  ERROR    ERROR  skippedskipped
kjohnson3macOS 13.6.5 Ventura / arm64see weekly results here
Package 6/13HostnameOS / ArchINSTALLBUILDCHECKBUILD BIN
msPurity 1.30.1  (landing page)
Thomas N. Lawson
git_last_commit: 46e39ad
git_last_commit_date: 2024-05-10 06:48:17 -0400
nebbiolo1Linux (Ubuntu 22.04.3 LTS) / x86_64  OK    OK    OK  UNNEEDED, same version is already published
palomino3Windows Server 2022 Datacenter / x64  OK    TIMEOUT  skippedskipped
lconwaymacOS 12.7.1 Monterey / x86_64  OK    ERROR  skippedskipped
kjohnson3macOS 13.6.5 Ventura / arm64see weekly results here
Package 7/13HostnameOS / ArchINSTALLBUILDCHECKBUILD BIN
peakPantheR 1.18.0  (landing page)
Arnaud Wolfer
git_last_commit: 80a6cae
git_last_commit_date: 2024-04-30 11:17:40 -0400
nebbiolo1Linux (Ubuntu 22.04.3 LTS) / x86_64  OK    OK    OK  UNNEEDED, same version is already published
palomino3Windows Server 2022 Datacenter / x64  OK    OK    OK    OK  UNNEEDED, same version is already published
lconwaymacOS 12.7.1 Monterey / x86_64  ERROR    ERROR  skippedskipped
kjohnson3macOS 13.6.5 Ventura / arm64see weekly results here
Package 8/13HostnameOS / ArchINSTALLBUILDCHECKBUILD BIN
RMassBank 3.14.0  (landing page)
RMassBank at Eawag
git_last_commit: 8ec7b0f
git_last_commit_date: 2024-04-30 10:28:27 -0400
nebbiolo1Linux (Ubuntu 22.04.3 LTS) / x86_64  OK    OK    ERROR  
palomino3Windows Server 2022 Datacenter / x64  OK    OK    OK    OK  UNNEEDED, same version is already published
lconwaymacOS 12.7.1 Monterey / x86_64  ERROR    ERROR  skippedskipped
kjohnson3macOS 13.6.5 Ventura / arm64see weekly results here
Package 9/13HostnameOS / ArchINSTALLBUILDCHECKBUILD BIN
SIMAT 1.36.0  (landing page)
M. R. Nezami Ranjbar
git_last_commit: 22ff28c
git_last_commit_date: 2024-04-30 10:42:18 -0400
nebbiolo1Linux (Ubuntu 22.04.3 LTS) / x86_64  OK    OK    OK  UNNEEDED, same version is already published
palomino3Windows Server 2022 Datacenter / x64  OK    OK    OK    OK  UNNEEDED, same version is already published
lconwaymacOS 12.7.1 Monterey / x86_64  OK    OK    OK    OK  UNNEEDED, same version is already published
kjohnson3macOS 13.6.5 Ventura / arm64see weekly results here
Package 10/13HostnameOS / ArchINSTALLBUILDCHECKBUILD BIN
TargetDecoy 1.10.0  (landing page)
Elke Debrie
git_last_commit: cb0aab6
git_last_commit_date: 2024-04-30 11:38:46 -0400
nebbiolo1Linux (Ubuntu 22.04.3 LTS) / x86_64  OK    OK    OK  UNNEEDED, same version is already published
palomino3Windows Server 2022 Datacenter / x64  OK    OK    OK    OK  UNNEEDED, same version is already published
lconwaymacOS 12.7.1 Monterey / x86_64  OK    OK    OK    OK  UNNEEDED, same version is already published
kjohnson3macOS 13.6.5 Ventura / arm64see weekly results here
Package 11/13HostnameOS / ArchINSTALLBUILDCHECKBUILD BIN
topdownr 1.26.0  (landing page)
Sebastian Gibb
git_last_commit: 8b077cb
git_last_commit_date: 2024-04-30 11:01:53 -0400
nebbiolo1Linux (Ubuntu 22.04.3 LTS) / x86_64  OK    OK    OK  UNNEEDED, same version is already published
palomino3Windows Server 2022 Datacenter / x64  OK    OK    OK    OK  UNNEEDED, same version is already published
lconwaymacOS 12.7.1 Monterey / x86_64  ERROR    ERROR  skippedskipped
kjohnson3macOS 13.6.5 Ventura / arm64see weekly results here
Package 12/13HostnameOS / ArchINSTALLBUILDCHECKBUILD BIN
xcms 4.2.1  (landing page)
Steffen Neumann
git_last_commit: 386bd40
git_last_commit_date: 2024-05-13 05:02:10 -0400
nebbiolo1Linux (Ubuntu 22.04.3 LTS) / x86_64  OK    OK    OK  UNNEEDED, same version is already published
palomino3Windows Server 2022 Datacenter / x64  OK    OK    WARNINGS    OK  UNNEEDED, same version is already published
lconwaymacOS 12.7.1 Monterey / x86_64  ERROR    ERROR  skippedskipped
kjohnson3macOS 13.6.5 Ventura / arm64see weekly results here
Package 13/13HostnameOS / ArchINSTALLBUILDCHECKBUILD BIN
yamss 1.30.0  (landing page)
Leslie Myint
git_last_commit: 98af026
git_last_commit_date: 2024-04-30 10:54:56 -0400
nebbiolo1Linux (Ubuntu 22.04.3 LTS) / x86_64  OK    OK    OK  UNNEEDED, same version is already published
palomino3Windows Server 2022 Datacenter / x64  OK    OK    OK    OK  UNNEEDED, same version is already published
lconwaymacOS 12.7.1 Monterey / x86_64  ERROR    ERROR  skippedskipped
kjohnson3macOS 13.6.5 Ventura / arm64see weekly results here