Back to Multiple platform build/check report for BioC 3.19:   simplified   long
ABCDEFGHIJKL[M]NOPQRSTUVWXYZ

This page was generated on 2024-07-09 17:43 -0400 (Tue, 09 Jul 2024).

HostnameOSArch (*)R versionInstalled pkgs
nebbiolo1Linux (Ubuntu 22.04.3 LTS)x86_644.4.1 (2024-06-14) -- "Race for Your Life" 4709
palomino7Windows Server 2022 Datacenterx644.4.1 (2024-06-14 ucrt) -- "Race for Your Life" 4483
merida1macOS 12.7.4 Montereyx86_644.4.1 (2024-06-14) -- "Race for Your Life" 4512
kjohnson1macOS 13.6.6 Venturaarm644.4.1 (2024-06-14) -- "Race for Your Life" 4461
Click on any hostname to see more info about the system (e.g. compilers)      (*) as reported by 'uname -p', except on Windows and Mac OS X

Package 1375/2300HostnameOS / ArchINSTALLBUILDCHECKBUILD BIN
multicrispr 1.14.0  (landing page)
Aditya Bhagwat
Snapshot Date: 2024-07-07 14:00 -0400 (Sun, 07 Jul 2024)
git_url: https://git.bioconductor.org/packages/multicrispr
git_branch: RELEASE_3_19
git_last_commit: a7f7aef
git_last_commit_date: 2024-04-30 11:24:36 -0400 (Tue, 30 Apr 2024)
nebbiolo1Linux (Ubuntu 22.04.3 LTS) / x86_64  OK    OK    OK  UNNEEDED, same version is already published
palomino7Windows Server 2022 Datacenter / x64  OK    OK    OK    OK  UNNEEDED, same version is already published
merida1macOS 12.7.4 Monterey / x86_64  OK    OK    OK    OK  UNNEEDED, same version is already published
kjohnson1macOS 13.6.6 Ventura / arm64  OK    OK    OK    OK  UNNEEDED, same version is already published


CHECK results for multicrispr on kjohnson1

To the developers/maintainers of the multicrispr package:
- Allow up to 24 hours (and sometimes 48 hours) for your latest push to git@git.bioconductor.org:packages/multicrispr.git to reflect on this report. See Troubleshooting Build Report for more information.
- Use the following Renviron settings to reproduce errors and warnings.
- If 'R CMD check' started to fail recently on the Linux builder(s) over a missing dependency, add the missing dependency to 'Suggests:' in your DESCRIPTION file. See Renviron.bioc for more information.

raw results


Summary

Package: multicrispr
Version: 1.14.0
Command: /Library/Frameworks/R.framework/Resources/bin/R CMD check --install=check:multicrispr.install-out.txt --library=/Library/Frameworks/R.framework/Resources/library --no-vignettes --timings multicrispr_1.14.0.tar.gz
StartedAt: 2024-07-09 03:01:15 -0400 (Tue, 09 Jul 2024)
EndedAt: 2024-07-09 03:08:12 -0400 (Tue, 09 Jul 2024)
EllapsedTime: 416.5 seconds
RetCode: 0
Status:   OK  
CheckDir: multicrispr.Rcheck
Warnings: 0

Command output

##############################################################################
##############################################################################
###
### Running command:
###
###   /Library/Frameworks/R.framework/Resources/bin/R CMD check --install=check:multicrispr.install-out.txt --library=/Library/Frameworks/R.framework/Resources/library --no-vignettes --timings multicrispr_1.14.0.tar.gz
###
##############################################################################
##############################################################################


* using log directory ‘/Users/biocbuild/bbs-3.19-bioc/meat/multicrispr.Rcheck’
* using R version 4.4.1 (2024-06-14)
* using platform: aarch64-apple-darwin20
* R was compiled by
    Apple clang version 14.0.0 (clang-1400.0.29.202)
    GNU Fortran (GCC) 12.2.0
* running under: macOS Ventura 13.6.6
* using session charset: UTF-8
* using option ‘--no-vignettes’
* checking for file ‘multicrispr/DESCRIPTION’ ... OK
* this is package ‘multicrispr’ version ‘1.14.0’
* package encoding: UTF-8
* checking package namespace information ... OK
* checking package dependencies ... OK
* checking if this is a source package ... OK
* checking if there is a namespace ... OK
* checking for hidden files and directories ... OK
* checking for portable file names ... OK
* checking for sufficient/correct file permissions ... OK
* checking whether package ‘multicrispr’ can be installed ... OK
* checking installed package size ... OK
* checking package directory ... OK
* checking ‘build’ directory ... OK
* checking DESCRIPTION meta-information ... OK
* checking top-level files ... OK
* checking for left-over files ... OK
* checking index information ... OK
* checking package subdirectories ... OK
* checking code files for non-ASCII characters ... OK
* checking R files for syntax errors ... OK
* checking whether the package can be loaded ... OK
* checking whether the package can be loaded with stated dependencies ... OK
* checking whether the package can be unloaded cleanly ... OK
* checking whether the namespace can be loaded with stated dependencies ... OK
* checking whether the namespace can be unloaded cleanly ... OK
* checking dependencies in R code ... OK
* checking S3 generic/method consistency ... OK
* checking replacement functions ... OK
* checking foreign function calls ... OK
* checking R code for possible problems ... OK
* checking Rd files ... OK
* checking Rd metadata ... OK
* checking Rd cross-references ... OK
* checking for missing documentation entries ... OK
* checking for code/documentation mismatches ... OK
* checking Rd \usage sections ... OK
* checking Rd contents ... OK
* checking for unstated dependencies in examples ... OK
* checking files in ‘vignettes’ ... OK
* checking examples ... OK
Examples with CPU (user + system) or elapsed time > 5s
                     user system elapsed
index_genome       22.315  0.225  22.561
score_ontargets    15.341  1.005  16.380
find_primespacers  14.534  0.994  15.584
add_target_matches 11.209  0.667  11.937
add_genome_matches 10.124  1.137  11.307
find_spacers        9.686  0.700  10.429
up_flank            9.848  0.105   9.994
plot_intervals      8.102  0.529   8.640
extend_for_pe       7.546  0.657   8.214
* checking for unstated dependencies in ‘tests’ ... OK
* checking tests ...
  Running ‘testthat.R’
 OK
* checking for unstated dependencies in vignettes ... OK
* checking package vignettes ... OK
* checking running R code from vignettes ... SKIPPED
* checking re-building of vignette outputs ... SKIPPED
* checking PDF version of manual ... OK
* DONE

Status: OK


Installation output

multicrispr.Rcheck/00install.out

##############################################################################
##############################################################################
###
### Running command:
###
###   /Library/Frameworks/R.framework/Resources/bin/R CMD INSTALL multicrispr
###
##############################################################################
##############################################################################


* installing to library ‘/Library/Frameworks/R.framework/Versions/4.4-arm64/Resources/library’
* installing *source* package ‘multicrispr’ ...
** using staged installation
** R
** inst
** byte-compile and prepare package for lazy loading
** help
*** installing help indices
** building package indices
** installing vignettes
** testing if installed package can be loaded from temporary location
** testing if installed package can be loaded from final location
** testing if installed package keeps a record of temporary installation path
* DONE (multicrispr)

Tests output

multicrispr.Rcheck/tests/testthat.Rout


R version 4.4.1 (2024-06-14) -- "Race for Your Life"
Copyright (C) 2024 The R Foundation for Statistical Computing
Platform: aarch64-apple-darwin20

R is free software and comes with ABSOLUTELY NO WARRANTY.
You are welcome to redistribute it under certain conditions.
Type 'license()' or 'licence()' for distribution details.

R is a collaborative project with many contributors.
Type 'contributors()' for more information and
'citation()' on how to cite R or R packages in publications.

Type 'demo()' for some demos, 'help()' for on-line help, or
'help.start()' for an HTML browser interface to help.
Type 'q()' to quit R.

> library(testthat)
> library(multicrispr)
> 
> test_check("multicrispr")
[ FAIL 0 | WARN 0 | SKIP 0 | PASS 13 ]
> 
> proc.time()
   user  system elapsed 
 16.125   1.087  17.228 

Example timings

multicrispr.Rcheck/multicrispr-Ex.timings

nameusersystemelapsed
add_genome_matches10.124 1.13711.307
add_inverse_strand1.9080.0501.959
add_seq2.3090.1862.499
add_target_matches11.209 0.66711.937
bed_to_granges1.9980.0432.042
char_to_granges0.7570.0170.774
double_flank2.1820.0292.212
extend_for_pe7.5460.6578.214
extend_pe_to_gg0.4440.0030.446
extract_matchranges2.7520.1572.914
extract_subranges0.4790.0030.483
find_gg0.9100.0500.959
find_primespacers14.534 0.99415.584
find_spacers 9.686 0.70010.429
genes_to_granges3.9320.1434.105
gr2dt0.1830.0020.185
has_been_indexed000
index_genome22.315 0.22522.561
index_targets2.3150.1952.543
plot_intervals8.1020.5298.640
plot_karyogram1.2280.0491.278
score_ontargets15.341 1.00516.380
up_flank9.8480.1059.994
write_ranges0.1570.0030.161