Index of /checkResults/3.19/bioc-LATEST/lpsymphony/raw-results/nebbiolo1

[ICO]NameLast modifiedSizeDescription

[DIR]Parent Directory  -  
[TXT]buildsrc-out.txt10-Jul-2024 06:39 896  
[   ]buildsrc-summary.dcf10-Jul-2024 06:39 427  
[TXT]checksrc-out.txt10-Jul-2024 06:39 5.0K 
[   ]checksrc-summary.dcf10-Jul-2024 06:39 431  
[TXT]install-out.txt10-Jul-2024 06:39 419K 
[   ]install-summary.dcf10-Jul-2024 06:39 266