Index of /checkResults/3.19/bioc-LATEST/lpsymphony/raw-results/merida1

[ICO]NameLast modifiedSizeDescription

[DIR]Parent Directory  -  
[TXT]buildbin-out.txt17-Jul-2024 06:41 446K 
[   ]buildbin-summary.dcf17-Jul-2024 06:41 549  
[TXT]buildsrc-out.txt17-Jul-2024 06:41 906  
[   ]buildsrc-summary.dcf17-Jul-2024 06:41 438  
[TXT]checksrc-out.txt17-Jul-2024 06:41 5.1K 
[   ]checksrc-summary.dcf17-Jul-2024 06:41 461  
[TXT]install-out.txt17-Jul-2024 06:41 413K 
[   ]install-summary.dcf17-Jul-2024 06:41 277