Index of /checkResults/3.19/bioc-LATEST/lpsymphony/raw-results/kjohnson1

[ICO]NameLast modifiedSizeDescription

[DIR]Parent Directory  -  
[TXT]buildbin-out.txt13-Jul-2024 06:42 446K 
[   ]buildbin-summary.dcf13-Jul-2024 06:42 549  
[TXT]buildsrc-out.txt13-Jul-2024 06:42 906  
[   ]buildsrc-summary.dcf13-Jul-2024 06:42 437  
[TXT]checksrc-out.txt13-Jul-2024 06:42 5.1K 
[   ]checksrc-summary.dcf13-Jul-2024 06:42 461  
[TXT]install-out.txt13-Jul-2024 06:42 411K 
[   ]install-summary.dcf13-Jul-2024 06:42 276